BEGIN:VCALENDAR
VERSION:2.0
PRODID:-//Marian University - ECPv6.15.20//NONSGML v1.0//EN
CALSCALE:GREGORIAN
METHOD:PUBLISH
X-ORIGINAL-URL:https://www.marianuniversity.edu
X-WR-CALDESC:Events for Marian University
REFRESH-INTERVAL;VALUE=DURATION:PT1H
X-Robots-Tag:noindex
X-PUBLISHED-TTL:PT1H
BEGIN:VTIMEZONE
TZID:America/Chicago
BEGIN:DAYLIGHT
TZOFFSETFROM:-0600
TZOFFSETTO:-0500
TZNAME:CDT
DTSTART:20240310T080000
END:DAYLIGHT
BEGIN:STANDARD
TZOFFSETFROM:-0500
TZOFFSETTO:-0600
TZNAME:CST
DTSTART:20241103T070000
END:STANDARD
BEGIN:DAYLIGHT
TZOFFSETFROM:-0600
TZOFFSETTO:-0500
TZNAME:CDT
DTSTART:20250309T080000
END:DAYLIGHT
BEGIN:STANDARD
TZOFFSETFROM:-0500
TZOFFSETTO:-0600
TZNAME:CST
DTSTART:20251102T070000
END:STANDARD
BEGIN:DAYLIGHT
TZOFFSETFROM:-0600
TZOFFSETTO:-0500
TZNAME:CDT
DTSTART:20260308T080000
END:DAYLIGHT
BEGIN:STANDARD
TZOFFSETFROM:-0500
TZOFFSETTO:-0600
TZNAME:CST
DTSTART:20261101T070000
END:STANDARD
END:VTIMEZONE
BEGIN:VEVENT
DTSTART;TZID=America/Chicago:20250217T090000
DTEND;TZID=America/Chicago:20250217T120000
DTSTAMP:20260423T095809
CREATED:20250207T141903Z
LAST-MODIFIED:20250207T141903Z
UID:988349-1739782800-1739793600@www.marianuniversity.edu
SUMMARY:Sabre Days Open House
DESCRIPTION:Marian University is having an Open House on Monday\, February 17!  While you have the day off for President’s Day\, come visit Marian University.  Tour the campus\, explore majors\, meet current students\, and learn about financial aid. Attend and earn a $1\,000/year scholarship at Marian! Sign up here!
URL:https://www.marianuniversity.edu/event/sabre-days-open-house-2/
LOCATION:Marian University\, 45 S National Ave.\, Fond du Lac\, WI\, 54935\, United States
CATEGORIES:Admission
ATTACH;FMTTYPE=image/jpeg:https://www.marianuniversity.edu/wp-content/uploads/2025/02/Campus-Visit-scaled.jpg
END:VEVENT
END:VCALENDAR