BEGIN:VCALENDAR
VERSION:2.0
PRODID:-//Marian University - ECPv6.15.20//NONSGML v1.0//EN
CALSCALE:GREGORIAN
METHOD:PUBLISH
X-WR-CALNAME:Marian University
X-ORIGINAL-URL:https://www.marianuniversity.edu
X-WR-CALDESC:Events for Marian University
REFRESH-INTERVAL;VALUE=DURATION:PT1H
X-Robots-Tag:noindex
X-PUBLISHED-TTL:PT1H
BEGIN:VTIMEZONE
TZID:America/Chicago
BEGIN:DAYLIGHT
TZOFFSETFROM:-0600
TZOFFSETTO:-0500
TZNAME:CDT
DTSTART:20230312T080000
END:DAYLIGHT
BEGIN:STANDARD
TZOFFSETFROM:-0500
TZOFFSETTO:-0600
TZNAME:CST
DTSTART:20231105T070000
END:STANDARD
BEGIN:DAYLIGHT
TZOFFSETFROM:-0600
TZOFFSETTO:-0500
TZNAME:CDT
DTSTART:20240310T080000
END:DAYLIGHT
BEGIN:STANDARD
TZOFFSETFROM:-0500
TZOFFSETTO:-0600
TZNAME:CST
DTSTART:20241103T070000
END:STANDARD
BEGIN:DAYLIGHT
TZOFFSETFROM:-0600
TZOFFSETTO:-0500
TZNAME:CDT
DTSTART:20250309T080000
END:DAYLIGHT
BEGIN:STANDARD
TZOFFSETFROM:-0500
TZOFFSETTO:-0600
TZNAME:CST
DTSTART:20251102T070000
END:STANDARD
END:VTIMEZONE
BEGIN:VEVENT
DTSTART;TZID=America/Chicago:20241205T170000
DTEND;TZID=America/Chicago:20241205T200000
DTSTAMP:20260423T132418
CREATED:20241125T211950Z
LAST-MODIFIED:20241125T211950Z
UID:987899-1733418000-1733428800@www.marianuniversity.edu
SUMMARY:Meet Santa at Marian University!
DESCRIPTION:Free and open to the public.  Bring your children to meet Santa\, the Grinch\, and Sammy Claws. And don’t forget to bring your camera – everyone is capturing their own photos.  For questions\, reach out to Brooke Spanbauer\, Director of Hospitality: bespanbauer96@marianuniversity.edu
URL:https://www.marianuniversity.edu/event/meet-santa-at-marian-university/
LOCATION:Sabre Cafe\, 740 E. Division St.\, Fond du Lac\, WI\, 54935\, United States
CATEGORIES:Campus Event
ATTACH;FMTTYPE=image/png:https://www.marianuniversity.edu/wp-content/uploads/2024/11/Meet-Santa_.png
END:VEVENT
BEGIN:VEVENT
DTSTART;TZID=America/Chicago:20241207T090000
DTEND;TZID=America/Chicago:20241207T140000
DTSTAMP:20260423T132418
CREATED:20241125T212141Z
LAST-MODIFIED:20241125T212141Z
UID:987903-1733562000-1733580000@www.marianuniversity.edu
SUMMARY:Christmas Market
DESCRIPTION:Open to the community\, we’ll have over 50 vendors selling Christmas items.  Do a little Christmas shopping or pick up something special for yourself! For questions\, reach out to Stephanie Carpenter\, Director of Student Involvement: sncarpenter19@marianuniversity.edu
URL:https://www.marianuniversity.edu/event/christmas-market/
LOCATION:Ridenour Science Center – Marian University\, 45 S. National Ave.\, Fond du Lac\, WI\, 54935\, United States
CATEGORIES:Campus Event,Community
ATTACH;FMTTYPE=image/png:https://www.marianuniversity.edu/wp-content/uploads/2024/11/marian-university-Instagram-Post-2.png
END:VEVENT
END:VCALENDAR