BEGIN:VCALENDAR
VERSION:2.0
PRODID:-//Marian University - ECPv6.15.20//NONSGML v1.0//EN
CALSCALE:GREGORIAN
METHOD:PUBLISH
X-WR-CALNAME:Marian University
X-ORIGINAL-URL:https://www.marianuniversity.edu
X-WR-CALDESC:Events for Marian University
REFRESH-INTERVAL;VALUE=DURATION:PT1H
X-Robots-Tag:noindex
X-PUBLISHED-TTL:PT1H
BEGIN:VTIMEZONE
TZID:America/Chicago
BEGIN:DAYLIGHT
TZOFFSETFROM:-0600
TZOFFSETTO:-0500
TZNAME:CDT
DTSTART:20200308T080000
END:DAYLIGHT
BEGIN:STANDARD
TZOFFSETFROM:-0500
TZOFFSETTO:-0600
TZNAME:CST
DTSTART:20201101T070000
END:STANDARD
BEGIN:DAYLIGHT
TZOFFSETFROM:-0600
TZOFFSETTO:-0500
TZNAME:CDT
DTSTART:20210314T080000
END:DAYLIGHT
BEGIN:STANDARD
TZOFFSETFROM:-0500
TZOFFSETTO:-0600
TZNAME:CST
DTSTART:20211107T070000
END:STANDARD
BEGIN:DAYLIGHT
TZOFFSETFROM:-0600
TZOFFSETTO:-0500
TZNAME:CDT
DTSTART:20220313T080000
END:DAYLIGHT
BEGIN:STANDARD
TZOFFSETFROM:-0500
TZOFFSETTO:-0600
TZNAME:CST
DTSTART:20221106T070000
END:STANDARD
END:VTIMEZONE
BEGIN:VEVENT
DTSTART;TZID=America/Chicago:20210925T130000
DTEND;TZID=America/Chicago:20210925T150000
DTSTAMP:20260423T012447
CREATED:20210905T201607Z
LAST-MODIFIED:20210905T201607Z
UID:45376-1632574800-1632582000@www.marianuniversity.edu
SUMMARY:Homecoming Tailgate
DESCRIPTION:
URL:https://www.marianuniversity.edu/event/homecoming-tailgate/
LOCATION:Smith Fields Complex – Marian University\, 45 S. National Ave.\, Fond du Lac\, WI\, 54935\, United States
CATEGORIES:Campus Event,Community
END:VEVENT
BEGIN:VEVENT
DTSTART;TZID=America/Chicago:20210925T130000
DTEND;TZID=America/Chicago:20210925T150000
DTSTAMP:20260423T012447
CREATED:20210905T201405Z
LAST-MODIFIED:20210905T201405Z
UID:45374-1632574800-1632582000@www.marianuniversity.edu
SUMMARY:Alumnae Softball Game
DESCRIPTION:
URL:https://www.marianuniversity.edu/event/alumnae-softball-game/
LOCATION:Smith Fields Complex – Marian University\, 45 S. National Ave.\, Fond du Lac\, WI\, 54935\, United States
CATEGORIES:Athletics,Marian University
END:VEVENT
BEGIN:VEVENT
DTSTART;TZID=America/Chicago:20210925T120000
DTEND;TZID=America/Chicago:20210925T160000
DTSTAMP:20260423T012447
CREATED:20210905T201138Z
LAST-MODIFIED:20210905T201138Z
UID:45372-1632571200-1632585600@www.marianuniversity.edu
SUMMARY:Homecoming Fun Zone
DESCRIPTION:
URL:https://www.marianuniversity.edu/event/homecoming-fun-zone/
LOCATION:Smith Fields Complex – Marian University\, 45 S. National Ave.\, Fond du Lac\, WI\, 54935\, United States
CATEGORIES:Campus Event,Community
END:VEVENT
BEGIN:VEVENT
DTSTART;TZID=America/Chicago:20210925T120000
DTEND;TZID=America/Chicago:20210925T150000
DTSTAMP:20260423T012447
CREATED:20210905T200845Z
LAST-MODIFIED:20210905T200845Z
UID:45370-1632571200-1632582000@www.marianuniversity.edu
SUMMARY:Women's Soccer vs Benedictine
DESCRIPTION:
URL:https://www.marianuniversity.edu/event/womens-soccer-vs-benedictine/
LOCATION:Smith Fields Complex – Marian University\, 45 S. National Ave.\, Fond du Lac\, WI\, 54935\, United States
CATEGORIES:Athletics,Campus Event
END:VEVENT
BEGIN:VEVENT
DTSTART;TZID=America/Chicago:20210925T110000
DTEND;TZID=America/Chicago:20210925T130000
DTSTAMP:20260423T012447
CREATED:20210905T195402Z
LAST-MODIFIED:20210905T195402Z
UID:45359-1632567600-1632574800@www.marianuniversity.edu
SUMMARY:Women's Tennis vs Alverno College
DESCRIPTION:
URL:https://www.marianuniversity.edu/event/womens-tennis-vs-alverno-college/
LOCATION:Buttermilk Creek Park\, 700 S. Park Ave.\, Fond du Lac\, WI\, 54935\, United States
CATEGORIES:Athletics
END:VEVENT
BEGIN:VEVENT
DTSTART;TZID=America/Chicago:20210925T090000
DTEND;TZID=America/Chicago:20210925T120000
DTSTAMP:20260423T012447
CREATED:20210905T205221Z
LAST-MODIFIED:20210905T205221Z
UID:45404-1632560400-1632571200@www.marianuniversity.edu
SUMMARY:Sabre Days
DESCRIPTION:
URL:https://www.marianuniversity.edu/event/sabre-days/
LOCATION:Marian University\, 45 S National Ave.\, Fond du Lac\, WI\, 54935\, United States
CATEGORIES:Admission
END:VEVENT
BEGIN:VEVENT
DTSTART;TZID=America/Chicago:20210925T090000
DTEND;TZID=America/Chicago:20210925T120000
DTSTAMP:20260423T012447
CREATED:20210621T154152Z
LAST-MODIFIED:20210621T160025Z
UID:42419-1632560400-1632571200@www.marianuniversity.edu
SUMMARY:Sabre Day
DESCRIPTION:Join your future classmates while faculty and coaches explain what life at Marian is all about. Learn about academics\, scholarships\, and financial aid; then enjoy a campus tour guided by one of our Student Ambassadors.
URL:https://www.marianuniversity.edu/event/sabre-day-2/
LOCATION:Marian University\, 45 S National Ave.\, Fond du Lac\, WI\, 54935\, United States
CATEGORIES:Marian University
END:VEVENT
BEGIN:VEVENT
DTSTART;TZID=America/Chicago:20210924T210000
DTEND;TZID=America/Chicago:20210924T230000
DTSTAMP:20260423T012447
CREATED:20210905T200644Z
LAST-MODIFIED:20210905T200644Z
UID:45367-1632517200-1632524400@www.marianuniversity.edu
SUMMARY:Bonfire
DESCRIPTION:
URL:https://www.marianuniversity.edu/event/bonfire/
LOCATION:Courtyard Village
CATEGORIES:Marian University
END:VEVENT
BEGIN:VEVENT
DTSTART;TZID=America/Chicago:20210924T100000
DTEND;TZID=America/Chicago:20210924T190000
DTSTAMP:20260423T012447
CREATED:20210905T200439Z
LAST-MODIFIED:20210905T200439Z
UID:45364-1632477600-1632510000@www.marianuniversity.edu
SUMMARY:Korbie Classic Annual Alumni Golf Outing
DESCRIPTION:
URL:https://www.marianuniversity.edu/event/korbie-classic-annual-alumni-golf-outing/
LOCATION:Whispering Springs Golf Course
CATEGORIES:Athletics,Marian University
END:VEVENT
BEGIN:VEVENT
DTSTART;TZID=America/Chicago:20210923T190000
DTEND;TZID=America/Chicago:20210923T210000
DTSTAMP:20260423T012447
CREATED:20210905T200032Z
LAST-MODIFIED:20210905T200032Z
UID:45361-1632423600-1632430800@www.marianuniversity.edu
SUMMARY:Alumni Baseball Game
DESCRIPTION:
URL:https://www.marianuniversity.edu/event/alumni-baseball-game/
LOCATION:Herr-Baker Field – Marian University\, 45 S. National Ave.\, Fond du Lac\, WI\, 54935\, United States
CATEGORIES:Athletics,Campus Event
END:VEVENT
BEGIN:VEVENT
DTSTART;TZID=America/Chicago:20210923T080000
DTEND;TZID=America/Chicago:20210925T170000
DTSTAMP:20260423T012447
CREATED:20210621T153351Z
LAST-MODIFIED:20210901T163033Z
UID:42413-1632384000-1632589200@www.marianuniversity.edu
SUMMARY:Homecoming
DESCRIPTION:Marian University Homecoming!
URL:https://www.marianuniversity.edu/event/homecoming/
LOCATION:Marian University\, 45 S National Ave.\, Fond du Lac\, WI\, 54935\, United States
CATEGORIES:Community
END:VEVENT
BEGIN:VEVENT
DTSTART;TZID=America/Chicago:20210922T190000
DTEND;TZID=America/Chicago:20210922T210000
DTSTAMP:20260423T012447
CREATED:20210905T194936Z
LAST-MODIFIED:20210905T194936Z
UID:45357-1632337200-1632344400@www.marianuniversity.edu
SUMMARY:Men's Soccer vs St. Norbert College
DESCRIPTION:
URL:https://www.marianuniversity.edu/event/mens-soccer-vs-st-norbert-college/
LOCATION:Smith Fields Complex – Marian University\, 45 S. National Ave.\, Fond du Lac\, WI\, 54935\, United States
CATEGORIES:Athletics
END:VEVENT
BEGIN:VEVENT
DTSTART;TZID=America/Chicago:20210921T190000
DTEND;TZID=America/Chicago:20210921T210000
DTSTAMP:20260423T012447
CREATED:20210905T194115Z
LAST-MODIFIED:20210905T194115Z
UID:45343-1632250800-1632258000@www.marianuniversity.edu
SUMMARY:Women's Volleyball vs Edgewood College
DESCRIPTION:
URL:https://www.marianuniversity.edu/event/womens-volleyball-vs-edgewood-college/
LOCATION:Howard Sadoff Gymnasium – Marian University\, 45 S. National Ave.\, Fond du Lac\, WI\, 54935\, United States
CATEGORIES:Athletics
END:VEVENT
BEGIN:VEVENT
DTSTART;TZID=America/Chicago:20210919T170000
DTEND;TZID=America/Chicago:20210919T180000
DTSTAMP:20260423T012447
CREATED:20210905T192410Z
LAST-MODIFIED:20210905T192410Z
UID:45321-1632070800-1632074400@www.marianuniversity.edu
SUMMARY:Mass
DESCRIPTION:
URL:https://www.marianuniversity.edu/event/mass-2/
LOCATION:Dorcas Chapel – Marian University\, 45 S. National Ave.\, Fond du Lac\, WI\, 54935\, United States
CATEGORIES:Chapel/Masses
END:VEVENT
BEGIN:VEVENT
DTSTART;TZID=America/Chicago:20210919T130000
DTEND;TZID=America/Chicago:20210919T150000
DTSTAMP:20260423T012447
CREATED:20210905T193940Z
LAST-MODIFIED:20210905T193940Z
UID:45341-1632056400-1632063600@www.marianuniversity.edu
SUMMARY:Women's Soccer vs Ripon College
DESCRIPTION:
URL:https://www.marianuniversity.edu/event/womens-soccer-vs-ripon-college/
LOCATION:Smith Fields Complex – Marian University\, 45 S. National Ave.\, Fond du Lac\, WI\, 54935\, United States
CATEGORIES:Athletics
END:VEVENT
BEGIN:VEVENT
DTSTART;TZID=America/Chicago:20210918T100000
DTEND;TZID=America/Chicago:20210918T120000
DTSTAMP:20260423T012447
CREATED:20210905T193818Z
LAST-MODIFIED:20210905T193818Z
UID:45339-1631959200-1631966400@www.marianuniversity.edu
SUMMARY:Women's Tennis vs Edgewood College
DESCRIPTION:
URL:https://www.marianuniversity.edu/event/womens-tennis-vs-edgewood-college/
LOCATION:Buttermilk Creek Park\, 700 S. Park Ave.\, Fond du Lac\, WI\, 54935\, United States
CATEGORIES:Athletics
END:VEVENT
BEGIN:VEVENT
DTSTART;VALUE=DATE:20210917
DTEND;VALUE=DATE:20210918
DTSTAMP:20260423T012447
CREATED:20210905T211949Z
LAST-MODIFIED:20210905T211949Z
UID:45430-1631836800-1631923199@www.marianuniversity.edu
SUMMARY:Constitution Day
DESCRIPTION:
URL:https://www.marianuniversity.edu/event/constitution-day/
LOCATION:Marian University\, 45 S National Ave.\, Fond du Lac\, WI\, 54935\, United States
CATEGORIES:Community
END:VEVENT
BEGIN:VEVENT
DTSTART;TZID=America/Chicago:20210915T180000
DTEND;TZID=America/Chicago:20210915T210000
DTSTAMP:20260423T012447
CREATED:20210905T193543Z
LAST-MODIFIED:20210905T193543Z
UID:45335-1631728800-1631739600@www.marianuniversity.edu
SUMMARY:Men's Soccer vs Wisconsin Lutheran
DESCRIPTION:
URL:https://www.marianuniversity.edu/event/mens-soccer-vs-wisconsin-lutheran/
LOCATION:Smith Fields Complex – Marian University\, 45 S. National Ave.\, Fond du Lac\, WI\, 54935\, United States
CATEGORIES:Athletics
END:VEVENT
BEGIN:VEVENT
DTSTART;TZID=America/Chicago:20210912T170000
DTEND;TZID=America/Chicago:20210912T180000
DTSTAMP:20260423T012447
CREATED:20210905T192250Z
LAST-MODIFIED:20210905T192250Z
UID:45318-1631466000-1631469600@www.marianuniversity.edu
SUMMARY:Mass
DESCRIPTION:
URL:https://www.marianuniversity.edu/event/mass/
LOCATION:Dorcas Chapel – Marian University\, 45 S. National Ave.\, Fond du Lac\, WI\, 54935\, United States
CATEGORIES:Chapel/Masses
END:VEVENT
BEGIN:VEVENT
DTSTART;TZID=America/Chicago:20210912T110000
DTEND;TZID=America/Chicago:20210912T130000
DTSTAMP:20260423T012447
CREATED:20210905T193315Z
LAST-MODIFIED:20210905T193315Z
UID:45331-1631444400-1631451600@www.marianuniversity.edu
SUMMARY:Women's Tennis vs MSOE
DESCRIPTION:
URL:https://www.marianuniversity.edu/event/womens-tennis-vs-msoe/
LOCATION:Buttermilk Creek Park\, 700 S. Park Ave.\, Fond du Lac\, WI\, 54935\, United States
CATEGORIES:Athletics
END:VEVENT
BEGIN:VEVENT
DTSTART;TZID=America/Chicago:20210911T180000
DTEND;TZID=America/Chicago:20210911T210000
DTSTAMP:20260423T012447
CREATED:20210905T192745Z
LAST-MODIFIED:20210905T192745Z
UID:45325-1631383200-1631394000@www.marianuniversity.edu
SUMMARY:Men's Soccer vs Augustana (Ill.)
DESCRIPTION:
URL:https://www.marianuniversity.edu/event/mens-soccer-vs-augustana-ill/
LOCATION:Smith Fields Complex – Marian University\, 45 S. National Ave.\, Fond du Lac\, WI\, 54935\, United States
CATEGORIES:Athletics
END:VEVENT
BEGIN:VEVENT
DTSTART;TZID=America/Chicago:20210911T120000
DTEND;TZID=America/Chicago:20210911T150000
DTSTAMP:20260423T012447
CREATED:20210905T192617Z
LAST-MODIFIED:20210905T192617Z
UID:45323-1631361600-1631372400@www.marianuniversity.edu
SUMMARY:Women's Soccer vs. Saint Mary's (Minn.)
DESCRIPTION:
URL:https://www.marianuniversity.edu/event/womens-soccer-vs-saint-marys-minn/
LOCATION:Smith Fields Complex – Marian University\, 45 S. National Ave.\, Fond du Lac\, WI\, 54935\, United States
CATEGORIES:Athletics
END:VEVENT
BEGIN:VEVENT
DTSTART;TZID=America/Chicago:20210908T120000
DTEND;TZID=America/Chicago:20210908T123000
DTSTAMP:20260423T012447
CREATED:20210905T204823Z
LAST-MODIFIED:20210905T204823Z
UID:45402-1631102400-1631104200@www.marianuniversity.edu
SUMMARY:Memorial Tribute - 20th Anniversary of 9/11
DESCRIPTION:
URL:https://www.marianuniversity.edu/event/memorial-tribute-20th-anniversary-of-9-11/
LOCATION:Marian University Quad\, 45 S. National Ave.\, Fond du Lac\, WI\, 54935\, United States
CATEGORIES:Marian University
END:VEVENT
BEGIN:VEVENT
DTSTART;TZID=America/Chicago:20210908T080000
DTEND;TZID=America/Chicago:20210908T170000
DTSTAMP:20260423T012447
CREATED:20210621T153457Z
LAST-MODIFIED:20210901T162441Z
UID:42415-1631088000-1631120400@www.marianuniversity.edu
SUMMARY:Founder's Day
DESCRIPTION:Founder’s Day
URL:https://www.marianuniversity.edu/event/founders-day/
LOCATION:Marian University\, 45 S National Ave.\, Fond du Lac\, WI\, 54935\, United States
CATEGORIES:Marian University
END:VEVENT
BEGIN:VEVENT
DTSTART;TZID=America/Chicago:20210906T080000
DTEND;TZID=America/Chicago:20210906T170000
DTSTAMP:20260423T012447
CREATED:20210621T155754Z
LAST-MODIFIED:20210621T155754Z
UID:42429-1630915200-1630947600@www.marianuniversity.edu
SUMMARY:Labor Day - University Closed/No Classes
DESCRIPTION:
URL:https://www.marianuniversity.edu/event/labor-day-university-closed-no-classes/
LOCATION:Marian University\, 45 S National Ave.\, Fond du Lac\, WI\, 54935\, United States
CATEGORIES:Marian University
END:VEVENT
BEGIN:VEVENT
DTSTART;TZID=America/Chicago:20210903T080000
DTEND;TZID=America/Chicago:20210903T170000
DTSTAMP:20260423T012447
CREATED:20210621T155629Z
LAST-MODIFIED:20210621T155629Z
UID:42427-1630656000-1630688400@www.marianuniversity.edu
SUMMARY:Last Day to Add/Drop a Class
DESCRIPTION:
URL:https://www.marianuniversity.edu/event/last-day-to-add-drop-a-class/
LOCATION:Marian University\, 45 S National Ave.\, Fond du Lac\, WI\, 54935\, United States
CATEGORIES:Academic
END:VEVENT
BEGIN:VEVENT
DTSTART;TZID=America/Chicago:20210830T080000
DTEND;TZID=America/Chicago:20210830T170000
DTSTAMP:20260423T012447
CREATED:20210621T155404Z
LAST-MODIFIED:20210621T155538Z
UID:42423-1630310400-1630342800@www.marianuniversity.edu
SUMMARY:Fall 1 Session Begins (7-week Accelerated)
DESCRIPTION:l
URL:https://www.marianuniversity.edu/event/fall-1-session-begin-7-week-accelerated/
LOCATION:Marian University\, 45 S National Ave.\, Fond du Lac\, WI\, 54935\, United States
CATEGORIES:Academic
END:VEVENT
BEGIN:VEVENT
DTSTART;TZID=America/Chicago:20210830T080000
DTEND;TZID=America/Chicago:20210830T170000
DTSTAMP:20260423T012447
CREATED:20210621T155254Z
LAST-MODIFIED:20210621T155456Z
UID:42421-1630310400-1630342800@www.marianuniversity.edu
SUMMARY:Fall Main Session Begins
DESCRIPTION:
URL:https://www.marianuniversity.edu/event/classes-begin/
LOCATION:Marian University\, 45 S National Ave.\, Fond du Lac\, WI\, 54935\, United States
CATEGORIES:Academic
END:VEVENT
BEGIN:VEVENT
DTSTART;TZID=America/Chicago:20210827T080000
DTEND;TZID=America/Chicago:20210829T170000
DTSTAMP:20260423T012447
CREATED:20210621T153136Z
LAST-MODIFIED:20210621T153136Z
UID:42411-1630051200-1630256400@www.marianuniversity.edu
SUMMARY:New Student Orientation
DESCRIPTION:
URL:https://www.marianuniversity.edu/event/new-student-orientation/
LOCATION:Marian University\, 45 S National Ave.\, Fond du Lac\, WI\, 54935\, United States
CATEGORIES:Student
END:VEVENT
BEGIN:VEVENT
DTSTART;TZID=America/Chicago:20210820T090000
DTEND;TZID=America/Chicago:20210820T120000
DTSTAMP:20260423T012447
CREATED:20210621T152944Z
LAST-MODIFIED:20210824T174000Z
UID:42409-1629450000-1629460800@www.marianuniversity.edu
SUMMARY:Sabre Day - August
DESCRIPTION:Join your future classmates while faculty and coaches explain what life at Marian is all about. Learn about academics\, scholarships\, and financial aid; then enjoy a campus tour guided by one of our Student Ambassadors.
URL:https://www.marianuniversity.edu/event/sabre-day/
LOCATION:Marian University\, 45 S National Ave.\, Fond du Lac\, WI\, 54935\, United States
CATEGORIES:Marian University
END:VEVENT
END:VCALENDAR