BEGIN:VCALENDAR
VERSION:2.0
PRODID:-//Marian University - ECPv6.15.20//NONSGML v1.0//EN
CALSCALE:GREGORIAN
METHOD:PUBLISH
X-WR-CALNAME:Marian University
X-ORIGINAL-URL:https://www.marianuniversity.edu
X-WR-CALDESC:Events for Marian University
REFRESH-INTERVAL;VALUE=DURATION:PT1H
X-Robots-Tag:noindex
X-PUBLISHED-TTL:PT1H
BEGIN:VTIMEZONE
TZID:America/Chicago
BEGIN:DAYLIGHT
TZOFFSETFROM:-0600
TZOFFSETTO:-0500
TZNAME:CDT
DTSTART:20200308T080000
END:DAYLIGHT
BEGIN:STANDARD
TZOFFSETFROM:-0500
TZOFFSETTO:-0600
TZNAME:CST
DTSTART:20201101T070000
END:STANDARD
BEGIN:DAYLIGHT
TZOFFSETFROM:-0600
TZOFFSETTO:-0500
TZNAME:CDT
DTSTART:20210314T080000
END:DAYLIGHT
BEGIN:STANDARD
TZOFFSETFROM:-0500
TZOFFSETTO:-0600
TZNAME:CST
DTSTART:20211107T070000
END:STANDARD
BEGIN:DAYLIGHT
TZOFFSETFROM:-0600
TZOFFSETTO:-0500
TZNAME:CDT
DTSTART:20220313T080000
END:DAYLIGHT
BEGIN:STANDARD
TZOFFSETFROM:-0500
TZOFFSETTO:-0600
TZNAME:CST
DTSTART:20221106T070000
END:STANDARD
BEGIN:DAYLIGHT
TZOFFSETFROM:-0600
TZOFFSETTO:-0500
TZNAME:CDT
DTSTART:20230312T080000
END:DAYLIGHT
BEGIN:STANDARD
TZOFFSETFROM:-0500
TZOFFSETTO:-0600
TZNAME:CST
DTSTART:20231105T070000
END:STANDARD
END:VTIMEZONE
BEGIN:VEVENT
DTSTART;TZID=America/Chicago:20220122T103000
DTEND;TZID=America/Chicago:20220122T113000
DTSTAMP:20260423T045309
CREATED:20211222T215113Z
LAST-MODIFIED:20211222T215113Z
UID:47149-1642847400-1642851000@www.marianuniversity.edu
SUMMARY:SnowComing - Women's Basketball Alumni Game
DESCRIPTION:
URL:https://www.marianuniversity.edu/event/snowcoming-womens-basketball-alumni-game/
LOCATION:Howard Sadoff Gymnasium – Marian University\, 45 S. National Ave.\, Fond du Lac\, WI\, 54935\, United States
CATEGORIES:Alumni,Athletics
END:VEVENT
BEGIN:VEVENT
DTSTART;TZID=America/Chicago:20220122T090000
DTEND;TZID=America/Chicago:20220122T120000
DTSTAMP:20260423T045309
CREATED:20211222T220330Z
LAST-MODIFIED:20211222T220330Z
UID:47169-1642842000-1642852800@www.marianuniversity.edu
SUMMARY:Sabre Day (Open House)
DESCRIPTION:
URL:https://www.marianuniversity.edu/event/sabre-day-open-house/
LOCATION:Marian University\, 45 S National Ave.\, Fond du Lac\, WI\, 54935\, United States
CATEGORIES:Admission
END:VEVENT
BEGIN:VEVENT
DTSTART;TZID=America/Chicago:20220121T190000
DTEND;TZID=America/Chicago:20220121T203000
DTSTAMP:20260423T045309
CREATED:20211222T222411Z
LAST-MODIFIED:20211222T222411Z
UID:47208-1642791600-1642797000@www.marianuniversity.edu
SUMMARY:Men's Ice Hockey vs. St. Norbert
DESCRIPTION:
URL:https://www.marianuniversity.edu/event/mens-ice-hockey-vs-st-norbert/
LOCATION:Blue Line Family Ice Center\, 550 Fond Du Lac Ave.\, Fond du Lac\, WI\, 54935\, United States
CATEGORIES:Athletics
END:VEVENT
BEGIN:VEVENT
DTSTART;TZID=America/Chicago:20220121T170000
DTEND;TZID=America/Chicago:20220121T183000
DTSTAMP:20260423T045309
CREATED:20220112T205729Z
LAST-MODIFIED:20220112T210611Z
UID:47693-1642784400-1642789800@www.marianuniversity.edu
SUMMARY:Snowcoming - Soup Flights
DESCRIPTION:
URL:https://www.marianuniversity.edu/event/snowcoming-soup-flights/
LOCATION:Todd Wehr Alumni Center/Common Grounds – Marian University\, 45 S. National Ave.\, Fond du Lac\, WI\, 54935\, United States
CATEGORIES:Campus Event
END:VEVENT
BEGIN:VEVENT
DTSTART;TZID=America/Chicago:20220120T200000
DTEND;TZID=America/Chicago:20220120T220000
DTSTAMP:20260423T045309
CREATED:20220114T174036Z
LAST-MODIFIED:20220114T174036Z
UID:47730-1642708800-1642716000@www.marianuniversity.edu
SUMMARY:The Welcome Back Bash!
DESCRIPTION:
URL:https://www.marianuniversity.edu/event/the-welcome-back-bash/
LOCATION:Hornung Student Center – Marian University\, 45 S. National Ave.\, Fond du Lac\, WI\, 54935\, United States
CATEGORIES:Student
END:VEVENT
BEGIN:VEVENT
DTSTART;TZID=America/Chicago:20220119T190000
DTEND;TZID=America/Chicago:20220119T203000
DTSTAMP:20260423T045309
CREATED:20211222T222300Z
LAST-MODIFIED:20211222T222300Z
UID:47206-1642618800-1642624200@www.marianuniversity.edu
SUMMARY:Men's Basketball vs. Lakeland
DESCRIPTION:
URL:https://www.marianuniversity.edu/event/mens-basketball-vs-lakeland/
LOCATION:Howard Sadoff Gymnasium – Marian University\, 45 S. National Ave.\, Fond du Lac\, WI\, 54935\, United States
CATEGORIES:Athletics
END:VEVENT
BEGIN:VEVENT
DTSTART;TZID=America/Chicago:20220119T180000
DTEND;TZID=America/Chicago:20220119T190000
DTSTAMP:20260423T045309
CREATED:20220117T160204Z
LAST-MODIFIED:20220117T160226Z
UID:47748-1642615200-1642618800@www.marianuniversity.edu
SUMMARY:Circle K - First Meeting of the Semester!
DESCRIPTION:
URL:https://www.marianuniversity.edu/event/circle-k-first-meeting-of-the-semester/
LOCATION:Mercury Marine Amphitheater\, T205\, Fond du Lac\, WI\, United States
CATEGORIES:Student
END:VEVENT
BEGIN:VEVENT
DTSTART;TZID=America/Chicago:20220118T193000
DTEND;TZID=America/Chicago:20220118T210000
DTSTAMP:20260423T045309
CREATED:20220114T173806Z
LAST-MODIFIED:20220114T173806Z
UID:47728-1642534200-1642539600@www.marianuniversity.edu
SUMMARY:Bingo!
DESCRIPTION:
URL:https://www.marianuniversity.edu/event/bingo/
LOCATION:Hornung Student Center – Marian University\, 45 S. National Ave.\, Fond du Lac\, WI\, 54935\, United States
CATEGORIES:Student
END:VEVENT
BEGIN:VEVENT
DTSTART;TZID=America/Chicago:20220117T080000
DTEND;TZID=America/Chicago:20220117T090000
DTSTAMP:20260423T045309
CREATED:20210905T213323Z
LAST-MODIFIED:20220107T144641Z
UID:45452-1642406400-1642410000@www.marianuniversity.edu
SUMMARY:Martin Luther King Jr. Community Prayer Meeting
DESCRIPTION:
URL:https://www.marianuniversity.edu/event/martin-luther-king-jr-community-prayer-breakfast/
LOCATION:Zoom\, 45 S. National Ave.\, Fond du Lac\, WI\, 54935\, United States
CATEGORIES:Community
END:VEVENT
BEGIN:VEVENT
DTSTART;VALUE=DATE:20220117
DTEND;VALUE=DATE:20220118
DTSTAMP:20260423T045309
CREATED:20220110T230452Z
LAST-MODIFIED:20220110T230452Z
UID:47610-1642377600-1642463999@www.marianuniversity.edu
SUMMARY:Spring Main Session Classes Begin
DESCRIPTION:
URL:https://www.marianuniversity.edu/event/spring-main-session-classes-begin/
LOCATION:WI
CATEGORIES:Academic
END:VEVENT
BEGIN:VEVENT
DTSTART;TZID=America/Chicago:20220115T190000
DTEND;TZID=America/Chicago:20220115T203000
DTSTAMP:20260423T045309
CREATED:20211222T222157Z
LAST-MODIFIED:20211222T222157Z
UID:47204-1642273200-1642278600@www.marianuniversity.edu
SUMMARY:Men's Ice Hockey vs. Lawrence
DESCRIPTION:Men
URL:https://www.marianuniversity.edu/event/mens-ice-hockey-vs-lawrence/
LOCATION:Blue Line Family Ice Center\, 550 Fond Du Lac Ave.\, Fond du Lac\, WI\, 54935\, United States
CATEGORIES:Athletics
END:VEVENT
BEGIN:VEVENT
DTSTART;TZID=America/Chicago:20220115T170000
DTEND;TZID=America/Chicago:20220115T183000
DTSTAMP:20260423T045309
CREATED:20211222T222029Z
LAST-MODIFIED:20211222T222049Z
UID:47201-1642266000-1642271400@www.marianuniversity.edu
SUMMARY:ACHA Men's Ice Hockey vs. Purdue Northwest
DESCRIPTION:
URL:https://www.marianuniversity.edu/event/acha-mens-ice-hockey-vs-purdue-university/
LOCATION:Blue Line Family Ice Center\, 550 Fond Du Lac Ave.\, Fond du Lac\, WI\, 54935\, United States
CATEGORIES:Athletics
END:VEVENT
BEGIN:VEVENT
DTSTART;TZID=America/Chicago:20220115T160000
DTEND;TZID=America/Chicago:20220115T173000
DTSTAMP:20260423T045309
CREATED:20211222T221904Z
LAST-MODIFIED:20211222T221904Z
UID:47199-1642262400-1642267800@www.marianuniversity.edu
SUMMARY:Women's Ice Hockey vs. Northland
DESCRIPTION:
URL:https://www.marianuniversity.edu/event/womens-ice-hockey-vs-northland-2/
LOCATION:Blue Line Family Ice Center\, 550 Fond Du Lac Ave.\, Fond du Lac\, WI\, 54935\, United States
CATEGORIES:Athletics
END:VEVENT
BEGIN:VEVENT
DTSTART;TZID=America/Chicago:20220114T190000
DTEND;TZID=America/Chicago:20220114T203000
DTSTAMP:20260423T045309
CREATED:20211222T221807Z
LAST-MODIFIED:20211222T221807Z
UID:47197-1642186800-1642192200@www.marianuniversity.edu
SUMMARY:Women's Ice Hockey vs. Northland
DESCRIPTION:
URL:https://www.marianuniversity.edu/event/womens-ice-hockey-vs-northland/
LOCATION:Blue Line Family Ice Center\, 550 Fond Du Lac Ave.\, Fond du Lac\, WI\, 54935\, United States
CATEGORIES:Athletics
END:VEVENT
BEGIN:VEVENT
DTSTART;TZID=America/Chicago:20220114T160000
DTEND;TZID=America/Chicago:20220114T173000
DTSTAMP:20260423T045309
CREATED:20211222T221653Z
LAST-MODIFIED:20211222T221653Z
UID:47195-1642176000-1642181400@www.marianuniversity.edu
SUMMARY:Men's Volleyball vs. Rockford
DESCRIPTION:
URL:https://www.marianuniversity.edu/event/mens-volleyball-vs-rockford/
LOCATION:Howard Sadoff Gymnasium – Marian University\, 45 S. National Ave.\, Fond du Lac\, WI\, 54935\, United States
CATEGORIES:Athletics
END:VEVENT
BEGIN:VEVENT
DTSTART;TZID=America/Chicago:20220114T133000
DTEND;TZID=America/Chicago:20220114T150000
DTSTAMP:20260423T045309
CREATED:20211222T221547Z
LAST-MODIFIED:20211222T221547Z
UID:47193-1642167000-1642172400@www.marianuniversity.edu
SUMMARY:Men's Volleyball vs. Wittenberg
DESCRIPTION:
URL:https://www.marianuniversity.edu/event/mens-volleyball-vs-wittenberg/
LOCATION:Howard Sadoff Gymnasium – Marian University\, 45 S. National Ave.\, Fond du Lac\, WI\, 54935\, United States
CATEGORIES:Athletics
END:VEVENT
BEGIN:VEVENT
DTSTART;TZID=America/Chicago:20220112T190000
DTEND;TZID=America/Chicago:20220112T203000
DTSTAMP:20260423T045309
CREATED:20211222T220913Z
LAST-MODIFIED:20211222T220913Z
UID:47179-1642014000-1642019400@www.marianuniversity.edu
SUMMARY:Men's Basketball vs Rockford College
DESCRIPTION:
URL:https://www.marianuniversity.edu/event/mens-basketball-vs-rockford-college/
LOCATION:Howard Sadoff Gymnasium – Marian University\, 45 S. National Ave.\, Fond du Lac\, WI\, 54935\, United States
CATEGORIES:Athletics
END:VEVENT
BEGIN:VEVENT
DTSTART;TZID=America/Chicago:20220112T160000
DTEND;TZID=America/Chicago:20220112T173000
DTSTAMP:20260423T045309
CREATED:20211222T220806Z
LAST-MODIFIED:20211222T220806Z
UID:47177-1642003200-1642008600@www.marianuniversity.edu
SUMMARY:Men's Ice Hockey vs MSOE
DESCRIPTION:
URL:https://www.marianuniversity.edu/event/mens-ice-hockey-vs-msoe/
LOCATION:Blue Line Family Ice Center\, 550 Fond Du Lac Ave.\, Fond du Lac\, WI\, 54935\, United States
CATEGORIES:Athletics
END:VEVENT
BEGIN:VEVENT
DTSTART;TZID=America/Chicago:20220108T160000
DTEND;TZID=America/Chicago:20220108T173000
DTSTAMP:20260423T045309
CREATED:20211222T220708Z
LAST-MODIFIED:20211222T220708Z
UID:47175-1641657600-1641663000@www.marianuniversity.edu
SUMMARY:Men's Basketball vs Dominican
DESCRIPTION:Men’s
URL:https://www.marianuniversity.edu/event/mens-basketball-vs-dominican/
LOCATION:Howard Sadoff Gymnasium – Marian University\, 45 S. National Ave.\, Fond du Lac\, WI\, 54935\, United States
CATEGORIES:Athletics
END:VEVENT
BEGIN:VEVENT
DTSTART;TZID=America/Chicago:20220108T140000
DTEND;TZID=America/Chicago:20220108T153000
DTSTAMP:20260423T045309
CREATED:20211222T220610Z
LAST-MODIFIED:20211222T220610Z
UID:47173-1641650400-1641655800@www.marianuniversity.edu
SUMMARY:Women's Basketball vs. Dominican
DESCRIPTION:
URL:https://www.marianuniversity.edu/event/womens-basketball-vs-dominican/
LOCATION:Howard Sadoff Gymnasium – Marian University\, 45 S. National Ave.\, Fond du Lac\, WI\, 54935\, United States
CATEGORIES:Athletics
END:VEVENT
BEGIN:VEVENT
DTSTART;VALUE=DATE:20211231
DTEND;VALUE=DATE:20220101
DTSTAMP:20260423T045309
CREATED:20211222T221446Z
LAST-MODIFIED:20211222T221446Z
UID:47191-1640908800-1640995199@www.marianuniversity.edu
SUMMARY:New Year's Eve - Marian University Closed
DESCRIPTION:Winter Break
URL:https://www.marianuniversity.edu/event/new-years-eve-marian-university-closed/
LOCATION:WI
CATEGORIES:Holiday/Breaks
END:VEVENT
BEGIN:VEVENT
DTSTART;VALUE=DATE:20211230
DTEND;VALUE=DATE:20211231
DTSTAMP:20260423T045309
CREATED:20211222T221305Z
LAST-MODIFIED:20211222T221305Z
UID:47189-1640822400-1640908799@www.marianuniversity.edu
SUMMARY:Winter Break - University Closed
DESCRIPTION:
URL:https://www.marianuniversity.edu/event/winter-break-university-closed-3/
LOCATION:WI
CATEGORIES:Marian University
END:VEVENT
BEGIN:VEVENT
DTSTART;VALUE=DATE:20211229
DTEND;VALUE=DATE:20211230
DTSTAMP:20260423T045309
CREATED:20211222T221223Z
LAST-MODIFIED:20211222T221223Z
UID:47187-1640736000-1640822399@www.marianuniversity.edu
SUMMARY:Winter Break - University Closed
DESCRIPTION:
URL:https://www.marianuniversity.edu/event/winter-break-university-closed-2/
LOCATION:WI
CATEGORIES:Marian University
END:VEVENT
BEGIN:VEVENT
DTSTART;VALUE=DATE:20211228
DTEND;VALUE=DATE:20211229
DTSTAMP:20260423T045309
CREATED:20211222T220958Z
LAST-MODIFIED:20211222T221040Z
UID:47181-1640649600-1640735999@www.marianuniversity.edu
SUMMARY:Winter Break - University Closed
DESCRIPTION:
URL:https://www.marianuniversity.edu/event/winer-break-university-closed/
LOCATION:WI
CATEGORIES:Marian University
END:VEVENT
BEGIN:VEVENT
DTSTART;VALUE=DATE:20211227
DTEND;VALUE=DATE:20211228
DTSTAMP:20260423T045309
CREATED:20211222T221126Z
LAST-MODIFIED:20211222T221126Z
UID:47185-1640563200-1640649599@www.marianuniversity.edu
SUMMARY:Winter Break - University Closed
DESCRIPTION:
URL:https://www.marianuniversity.edu/event/winter-break-university-closed/
LOCATION:WI
CATEGORIES:Marian University
END:VEVENT
BEGIN:VEVENT
DTSTART;VALUE=DATE:20211224
DTEND;VALUE=DATE:20211225
DTSTAMP:20260423T045309
CREATED:20211222T214838Z
LAST-MODIFIED:20211222T214902Z
UID:47145-1640304000-1640390399@www.marianuniversity.edu
SUMMARY:Christmas Eve - Marian University Closed
DESCRIPTION:
URL:https://www.marianuniversity.edu/event/christmas-eve-marian-university-closed/
LOCATION:WI
CATEGORIES:Holiday/Breaks
END:VEVENT
BEGIN:VEVENT
DTSTART;TZID=America/Chicago:20211217T190000
DTEND;TZID=America/Chicago:20211217T210000
DTSTAMP:20260423T045309
CREATED:20210905T221328Z
LAST-MODIFIED:20210905T221328Z
UID:45500-1639767600-1639774800@www.marianuniversity.edu
SUMMARY:Men's Basketball vs Bethany Lutheran
DESCRIPTION:
URL:https://www.marianuniversity.edu/event/mens-basketball-vs-bethany-lutheran/
LOCATION:Howard Sadoff Gymnasium – Marian University\, 45 S. National Ave.\, Fond du Lac\, WI\, 54935\, United States
CATEGORIES:Athletics
END:VEVENT
BEGIN:VEVENT
DTSTART;TZID=America/Chicago:20211211T160000
DTEND;TZID=America/Chicago:20211211T180000
DTSTAMP:20260423T045309
CREATED:20210905T221212Z
LAST-MODIFIED:20210905T221212Z
UID:45498-1639238400-1639245600@www.marianuniversity.edu
SUMMARY:Men's Basketball vs Concordia Chicago
DESCRIPTION:
URL:https://www.marianuniversity.edu/event/mens-basketball-vs-concordia-chicago/
LOCATION:Howard Sadoff Gymnasium – Marian University\, 45 S. National Ave.\, Fond du Lac\, WI\, 54935\, United States
CATEGORIES:Athletics
END:VEVENT
BEGIN:VEVENT
DTSTART;TZID=America/Chicago:20211211T140000
DTEND;TZID=America/Chicago:20211211T160000
DTSTAMP:20260423T045309
CREATED:20210905T221056Z
LAST-MODIFIED:20210905T221056Z
UID:45496-1639231200-1639238400@www.marianuniversity.edu
SUMMARY:Women's Basketball vs Concordia Chicago
DESCRIPTION:
URL:https://www.marianuniversity.edu/event/womens-basketball-vs-concordia-chicago/
LOCATION:Howard Sadoff Gymnasium – Marian University\, 45 S. National Ave.\, Fond du Lac\, WI\, 54935\, United States
CATEGORIES:Athletics
END:VEVENT
BEGIN:VEVENT
DTSTART;TZID=America/Chicago:20211210T180000
DTEND;TZID=America/Chicago:20211210T200000
DTSTAMP:20260423T045309
CREATED:20210621T153711Z
LAST-MODIFIED:20210621T153711Z
UID:42417-1639159200-1639166400@www.marianuniversity.edu
SUMMARY:Commencement Ceremony
DESCRIPTION:
URL:https://www.marianuniversity.edu/event/commencement-ceremony/
LOCATION:Marian University\, 45 S National Ave.\, Fond du Lac\, WI\, 54935\, United States
CATEGORIES:Academic
END:VEVENT
END:VCALENDAR