BEGIN:VCALENDAR
VERSION:2.0
PRODID:-//Marian University - ECPv6.15.20//NONSGML v1.0//EN
CALSCALE:GREGORIAN
METHOD:PUBLISH
X-WR-CALNAME:Marian University
X-ORIGINAL-URL:https://www.marianuniversity.edu
X-WR-CALDESC:Events for Marian University
REFRESH-INTERVAL;VALUE=DURATION:PT1H
X-Robots-Tag:noindex
X-PUBLISHED-TTL:PT1H
BEGIN:VTIMEZONE
TZID:America/Chicago
BEGIN:DAYLIGHT
TZOFFSETFROM:-0600
TZOFFSETTO:-0500
TZNAME:CDT
DTSTART:20240310T080000
END:DAYLIGHT
BEGIN:STANDARD
TZOFFSETFROM:-0500
TZOFFSETTO:-0600
TZNAME:CST
DTSTART:20241103T070000
END:STANDARD
BEGIN:DAYLIGHT
TZOFFSETFROM:-0600
TZOFFSETTO:-0500
TZNAME:CDT
DTSTART:20250309T080000
END:DAYLIGHT
BEGIN:STANDARD
TZOFFSETFROM:-0500
TZOFFSETTO:-0600
TZNAME:CST
DTSTART:20251102T070000
END:STANDARD
BEGIN:DAYLIGHT
TZOFFSETFROM:-0600
TZOFFSETTO:-0500
TZNAME:CDT
DTSTART:20260308T080000
END:DAYLIGHT
BEGIN:STANDARD
TZOFFSETFROM:-0500
TZOFFSETTO:-0600
TZNAME:CST
DTSTART:20261101T070000
END:STANDARD
BEGIN:DAYLIGHT
TZOFFSETFROM:-0600
TZOFFSETTO:-0500
TZNAME:CDT
DTSTART:20270314T080000
END:DAYLIGHT
BEGIN:STANDARD
TZOFFSETFROM:-0500
TZOFFSETTO:-0600
TZNAME:CST
DTSTART:20271107T070000
END:STANDARD
END:VTIMEZONE
BEGIN:VEVENT
DTSTART;VALUE=DATE:20250609
DTEND;VALUE=DATE:20250613
DTSTAMP:20260423T042317
CREATED:20250207T142121Z
LAST-MODIFIED:20250207T142121Z
UID:988352-1749427200-1749772799@www.marianuniversity.edu
SUMMARY:Nurse Camp
DESCRIPTION:Nurse Camp is back!  The week of June 9-12\, 2025\, a group of fortunate high school students will be immersed in the nursing profession\, through Marian University and SSM Health St. Agnes Hospital in Fond du Lac\, with hands on learning including CPR Training\, first aid\, wound care\, IV Therapy/injections\, sterile techniques\, vital signs and infection control.  The camp will be based at Marian’s brand-new Nursing facility on campus at the Stayer Center\, with time spent at nearby SSM Health St. Agnes Hospital.
URL:https://www.marianuniversity.edu/event/nurse-camp-2/
LOCATION:Stayer Center  – Marian University\, 45 S. National Ave.\, Fond du Lac\, WI\, 54935\, United States
CATEGORIES:Campus Event
ATTACH;FMTTYPE=image/jpeg:https://www.marianuniversity.edu/wp-content/uploads/2025/02/IMG_4772-2-scaled.jpg
END:VEVENT
BEGIN:VEVENT
DTSTART;TZID=America/Chicago:20250623T100000
DTEND;TZID=America/Chicago:20250623T190000
DTSTAMP:20260423T042317
CREATED:20250424T210031Z
LAST-MODIFIED:20250424T210031Z
UID:989061-1750672800-1750705200@www.marianuniversity.edu
SUMMARY:Alumni Golf Outing
DESCRIPTION:
URL:https://www.marianuniversity.edu/event/alumni-golf-outing/
LOCATION:South Hills Golf & Country Club\, 1175 Fond du Lac Ave\, Fond du Lac\, WI\, 54935\, United States
CATEGORIES:Alumni
END:VEVENT
BEGIN:VEVENT
DTSTART;TZID=America/Chicago:20250729T183000
DTEND;TZID=America/Chicago:20250729T220000
DTSTAMP:20260423T042317
CREATED:20250702T175507Z
LAST-MODIFIED:20250702T175507Z
UID:989960-1753813800-1753826400@www.marianuniversity.edu
SUMMARY:Alumni Brewers Game (Milwaukee)
DESCRIPTION:
URL:https://www.marianuniversity.edu/event/alumni-brewers-game-milwaukee/
LOCATION:American Family Field\, 1 Brewers Way\, Milwaukee\, WI\, 53214\, United States
CATEGORIES:Alumni
END:VEVENT
BEGIN:VEVENT
DTSTART;TZID=America/Chicago:20250925T110000
DTEND;TZID=America/Chicago:20250925T190000
DTSTAMP:20260423T042317
CREATED:20250702T175758Z
LAST-MODIFIED:20250707T152756Z
UID:989963-1758798000-1758826800@www.marianuniversity.edu
SUMMARY:President’s Inauguration
DESCRIPTION:
URL:https://www.marianuniversity.edu/event/presidents-inauguration/
LOCATION:Marian University\, 45 S National Ave.\, Fond du Lac\, WI\, 54935\, United States
CATEGORIES:Community
END:VEVENT
BEGIN:VEVENT
DTSTART;TZID=America/Chicago:20251022T050000
DTEND;TZID=America/Chicago:20251022T210000
DTSTAMP:20260423T042317
CREATED:20251016T195458Z
LAST-MODIFIED:20251016T195458Z
UID:990741-1761109200-1761166800@www.marianuniversity.edu
SUMMARY:B&I Awards
DESCRIPTION:
URL:https://www.marianuniversity.edu/event/bi-awards/
LOCATION:Stayer Center Dining Room
END:VEVENT
BEGIN:VEVENT
DTSTART;TZID=America/Chicago:20251212T180000
DTEND;TZID=America/Chicago:20251212T200000
DTSTAMP:20260423T042317
CREATED:20251016T195626Z
LAST-MODIFIED:20251118T165139Z
UID:990744-1765562400-1765569600@www.marianuniversity.edu
SUMMARY:December Graduation 2025
DESCRIPTION:
URL:https://www.marianuniversity.edu/event/december-graduation-2025/
LOCATION:Howard Sadoff Gymnasium – Marian University\, 45 S. National Ave.\, Fond du Lac\, WI\, 54935\, United States
ATTACH;FMTTYPE=image/jpeg:https://www.marianuniversity.edu/wp-content/uploads/2025/11/Graduation_Vision-scaled.jpg
END:VEVENT
BEGIN:VEVENT
DTSTART;TZID=America/Chicago:20260119T073000
DTEND;TZID=America/Chicago:20260119T083000
DTSTAMP:20260423T042317
CREATED:20251118T164835Z
LAST-MODIFIED:20251118T164835Z
UID:991611-1768807800-1768811400@www.marianuniversity.edu
SUMMARY:Martin Luther King Jr. Community Breakfast
DESCRIPTION:
URL:https://www.marianuniversity.edu/event/martin-luther-king-jr-community-breakfast/
LOCATION:Stayer Center Dining Room
CATEGORIES:Community
ATTACH;FMTTYPE=image/jpeg:https://www.marianuniversity.edu/wp-content/uploads/2025/11/MLK-Social-2026-Date.jpg
END:VEVENT
BEGIN:VEVENT
DTSTART;TZID=America/Chicago:20260317T180000
DTEND;TZID=America/Chicago:20260317T193000
DTSTAMP:20260423T042317
CREATED:20260213T162059Z
LAST-MODIFIED:20260305T204136Z
UID:993609-1773770400-1773775800@www.marianuniversity.edu
SUMMARY:19th Annual Academic Pre-Symposium Event: A keynote panel exploration of how authoritarian policies and practices challenge the foundations of evidence-based knowledge and democratic decision-making.
DESCRIPTION:
URL:https://www.marianuniversity.edu/event/19th-annual-academic-symposium-keynote/
LOCATION:Stayer Center Auditorium – Marian University\, 45 S. National Ave.\, Fond du Lac\, WI\, 54935\, United States
CATEGORIES:Campus Event,Community
ATTACH;FMTTYPE=image/png:https://www.marianuniversity.edu/wp-content/uploads/2025/11/Symposium-poster.png
END:VEVENT
BEGIN:VEVENT
DTSTART;TZID=America/Chicago:20260318T080000
DTEND;TZID=America/Chicago:20260318T160000
DTSTAMP:20260423T042317
CREATED:20251118T165030Z
LAST-MODIFIED:20260213T162125Z
UID:991614-1773820800-1773849600@www.marianuniversity.edu
SUMMARY:19th Annual Academic Symposium
DESCRIPTION:
URL:https://www.marianuniversity.edu/event/academic-symposium/
LOCATION:Marian University\, 45 S National Ave.\, Fond du Lac\, WI\, 54935\, United States
CATEGORIES:Academic,Community
ATTACH;FMTTYPE=image/png:https://www.marianuniversity.edu/wp-content/uploads/2025/11/Symposium-poster.png
END:VEVENT
BEGIN:VEVENT
DTSTART;VALUE=DATE:20260622
DTEND;VALUE=DATE:20260623
DTSTAMP:20260423T042317
CREATED:20260114T144143Z
LAST-MODIFIED:20260413T153051Z
UID:993250-1782086400-1782172799@www.marianuniversity.edu
SUMMARY:17th Annual Alumni & Friends Golf Outing
DESCRIPTION:
URL:https://www.marianuniversity.edu/event/17th-annual-alumni-friends-golf-outing/
LOCATION:South Hills Golf & Country Club\, 1175 Fond du Lac Ave\, Fond du Lac\, WI\, 54935\, United States
CATEGORIES:Alumni
ATTACH;FMTTYPE=image/jpeg:https://www.marianuniversity.edu/wp-content/uploads/2026/01/Golf-Outing-STD-FB-Social-1-26.jpg
END:VEVENT
END:VCALENDAR