BEGIN:VCALENDAR
VERSION:2.0
PRODID:-//Marian University - ECPv6.15.20//NONSGML v1.0//EN
CALSCALE:GREGORIAN
METHOD:PUBLISH
X-WR-CALNAME:Marian University
X-ORIGINAL-URL:https://www.marianuniversity.edu
X-WR-CALDESC:Events for Marian University
REFRESH-INTERVAL;VALUE=DURATION:PT1H
X-Robots-Tag:noindex
X-PUBLISHED-TTL:PT1H
BEGIN:VTIMEZONE
TZID:America/Chicago
BEGIN:DAYLIGHT
TZOFFSETFROM:-0600
TZOFFSETTO:-0500
TZNAME:CDT
DTSTART:20220313T080000
END:DAYLIGHT
BEGIN:STANDARD
TZOFFSETFROM:-0500
TZOFFSETTO:-0600
TZNAME:CST
DTSTART:20221106T070000
END:STANDARD
BEGIN:DAYLIGHT
TZOFFSETFROM:-0600
TZOFFSETTO:-0500
TZNAME:CDT
DTSTART:20230312T080000
END:DAYLIGHT
BEGIN:STANDARD
TZOFFSETFROM:-0500
TZOFFSETTO:-0600
TZNAME:CST
DTSTART:20231105T070000
END:STANDARD
BEGIN:DAYLIGHT
TZOFFSETFROM:-0600
TZOFFSETTO:-0500
TZNAME:CDT
DTSTART:20240310T080000
END:DAYLIGHT
BEGIN:STANDARD
TZOFFSETFROM:-0500
TZOFFSETTO:-0600
TZNAME:CST
DTSTART:20241103T070000
END:STANDARD
BEGIN:DAYLIGHT
TZOFFSETFROM:-0600
TZOFFSETTO:-0500
TZNAME:CDT
DTSTART:20250309T080000
END:DAYLIGHT
BEGIN:STANDARD
TZOFFSETFROM:-0500
TZOFFSETTO:-0600
TZNAME:CST
DTSTART:20251102T070000
END:STANDARD
BEGIN:DAYLIGHT
TZOFFSETFROM:-0600
TZOFFSETTO:-0500
TZNAME:CDT
DTSTART:20260308T080000
END:DAYLIGHT
BEGIN:STANDARD
TZOFFSETFROM:-0500
TZOFFSETTO:-0600
TZNAME:CST
DTSTART:20261101T070000
END:STANDARD
END:VTIMEZONE
BEGIN:VEVENT
DTSTART;TZID=America/Chicago:20250925T110000
DTEND;TZID=America/Chicago:20250925T190000
DTSTAMP:20260423T045146
CREATED:20250702T175758Z
LAST-MODIFIED:20250707T152756Z
UID:989963-1758798000-1758826800@www.marianuniversity.edu
SUMMARY:President’s Inauguration
DESCRIPTION:
URL:https://www.marianuniversity.edu/event/presidents-inauguration/
LOCATION:Marian University\, 45 S National Ave.\, Fond du Lac\, WI\, 54935\, United States
CATEGORIES:Community
END:VEVENT
BEGIN:VEVENT
DTSTART;TZID=America/Chicago:20250729T183000
DTEND;TZID=America/Chicago:20250729T220000
DTSTAMP:20260423T045146
CREATED:20250702T175507Z
LAST-MODIFIED:20250702T175507Z
UID:989960-1753813800-1753826400@www.marianuniversity.edu
SUMMARY:Alumni Brewers Game (Milwaukee)
DESCRIPTION:
URL:https://www.marianuniversity.edu/event/alumni-brewers-game-milwaukee/
LOCATION:American Family Field\, 1 Brewers Way\, Milwaukee\, WI\, 53214\, United States
CATEGORIES:Alumni
END:VEVENT
BEGIN:VEVENT
DTSTART;TZID=America/Chicago:20250623T100000
DTEND;TZID=America/Chicago:20250623T190000
DTSTAMP:20260423T045146
CREATED:20250424T210031Z
LAST-MODIFIED:20250424T210031Z
UID:989061-1750672800-1750705200@www.marianuniversity.edu
SUMMARY:Alumni Golf Outing
DESCRIPTION:
URL:https://www.marianuniversity.edu/event/alumni-golf-outing/
LOCATION:South Hills Golf & Country Club\, 1175 Fond du Lac Ave\, Fond du Lac\, WI\, 54935\, United States
CATEGORIES:Alumni
END:VEVENT
BEGIN:VEVENT
DTSTART;VALUE=DATE:20250609
DTEND;VALUE=DATE:20250613
DTSTAMP:20260423T045146
CREATED:20250207T142121Z
LAST-MODIFIED:20250207T142121Z
UID:988352-1749427200-1749772799@www.marianuniversity.edu
SUMMARY:Nurse Camp
DESCRIPTION:Nurse Camp is back!  The week of June 9-12\, 2025\, a group of fortunate high school students will be immersed in the nursing profession\, through Marian University and SSM Health St. Agnes Hospital in Fond du Lac\, with hands on learning including CPR Training\, first aid\, wound care\, IV Therapy/injections\, sterile techniques\, vital signs and infection control.  The camp will be based at Marian’s brand-new Nursing facility on campus at the Stayer Center\, with time spent at nearby SSM Health St. Agnes Hospital.
URL:https://www.marianuniversity.edu/event/nurse-camp-2/
LOCATION:Stayer Center  – Marian University\, 45 S. National Ave.\, Fond du Lac\, WI\, 54935\, United States
CATEGORIES:Campus Event
ATTACH;FMTTYPE=image/jpeg:https://www.marianuniversity.edu/wp-content/uploads/2025/02/IMG_4772-2-scaled.jpg
END:VEVENT
BEGIN:VEVENT
DTSTART;TZID=America/Chicago:20250503T123000
DTEND;TZID=America/Chicago:20250503T140000
DTSTAMP:20260423T045146
CREATED:20250424T205811Z
LAST-MODIFIED:20250424T205832Z
UID:989059-1746275400-1746280800@www.marianuniversity.edu
SUMMARY:Commencement Ceremony
DESCRIPTION:
URL:https://www.marianuniversity.edu/event/commencement-ceremony-2/
LOCATION:Herr-Baker Field – Marian University\, 45 S. National Ave.\, Fond du Lac\, WI\, 54935\, United States
CATEGORIES:Academic
END:VEVENT
BEGIN:VEVENT
DTSTART;TZID=America/Chicago:20250503T100000
DTEND;TZID=America/Chicago:20250503T110000
DTSTAMP:20260423T045146
CREATED:20250424T205730Z
LAST-MODIFIED:20250424T205730Z
UID:989057-1746266400-1746270000@www.marianuniversity.edu
SUMMARY:Nurse Pinning
DESCRIPTION:
URL:https://www.marianuniversity.edu/event/nurse-pinning/
LOCATION:Dorcas Chapel – Marian University\, 45 S. National Ave.\, Fond du Lac\, WI\, 54935\, United States
CATEGORIES:Academic
END:VEVENT
BEGIN:VEVENT
DTSTART;TZID=America/Chicago:20250502T180000
DTEND;TZID=America/Chicago:20250502T200000
DTSTAMP:20260423T045146
CREATED:20250424T205630Z
LAST-MODIFIED:20250424T205630Z
UID:989055-1746208800-1746216000@www.marianuniversity.edu
SUMMARY:Radiologic Technology Ceremony
DESCRIPTION:
URL:https://www.marianuniversity.edu/event/radiologic-technology-ceremony/
LOCATION:Stayer Center Auditorium – Marian University\, 45 S. National Ave.\, Fond du Lac\, WI\, 54935\, United States
CATEGORIES:Academic
END:VEVENT
BEGIN:VEVENT
DTSTART;TZID=America/Chicago:20250502T170000
DTEND;TZID=America/Chicago:20250502T190000
DTSTAMP:20260423T045146
CREATED:20250424T205543Z
LAST-MODIFIED:20250424T205543Z
UID:989053-1746205200-1746212400@www.marianuniversity.edu
SUMMARY:Education Commissioning
DESCRIPTION:
URL:https://www.marianuniversity.edu/event/education-commissioning/
LOCATION:Dorcas Chapel – Marian University\, 45 S. National Ave.\, Fond du Lac\, WI\, 54935\, United States
CATEGORIES:Chapel/Masses
END:VEVENT
BEGIN:VEVENT
DTSTART;TZID=America/Chicago:20250502T140000
DTEND;TZID=America/Chicago:20250502T150000
DTSTAMP:20260423T045146
CREATED:20250424T181204Z
LAST-MODIFIED:20250424T181204Z
UID:989051-1746194400-1746198000@www.marianuniversity.edu
SUMMARY:Baccalaureate Prayer Service
DESCRIPTION:
URL:https://www.marianuniversity.edu/event/baccalaureate-prayer-service/
LOCATION:Dorcas Chapel – Marian University\, 45 S. National Ave.\, Fond du Lac\, WI\, 54935\, United States
CATEGORIES:Chapel/Masses
END:VEVENT
BEGIN:VEVENT
DTSTART;TZID=America/Chicago:20250501T150000
DTEND;TZID=America/Chicago:20250501T180000
DTSTAMP:20260423T045146
CREATED:20250424T181112Z
LAST-MODIFIED:20250424T181112Z
UID:989049-1746111600-1746122400@www.marianuniversity.edu
SUMMARY:Business Program Awards
DESCRIPTION:Please join us for this event that is part of Spring 2025 Commencement weekend.
URL:https://www.marianuniversity.edu/event/business-program-awards/
LOCATION:Stayer Center Dining Room
CATEGORIES:Academic
END:VEVENT
BEGIN:VEVENT
DTSTART;TZID=America/Chicago:20250427T160000
DTEND;TZID=America/Chicago:20250427T173000
DTSTAMP:20260423T045146
CREATED:20250424T180944Z
LAST-MODIFIED:20250424T180944Z
UID:989047-1745769600-1745775000@www.marianuniversity.edu
SUMMARY:Human Trafficking Seminar
DESCRIPTION:
URL:https://www.marianuniversity.edu/event/human-trafficking-seminar/
LOCATION:Stayer Center Auditorium – Marian University\, 45 S. National Ave.\, Fond du Lac\, WI\, 54935\, United States
CATEGORIES:Campus Event
END:VEVENT
BEGIN:VEVENT
DTSTART;TZID=America/Chicago:20250422T150000
DTEND;TZID=America/Chicago:20250422T160000
DTSTAMP:20260423T045146
CREATED:20250422T130811Z
LAST-MODIFIED:20250422T130811Z
UID:989036-1745334000-1745337600@www.marianuniversity.edu
SUMMARY:Prayer Service to Honor and Celebrate the Legacy of Pope Francis
DESCRIPTION:
URL:https://www.marianuniversity.edu/event/prayer-service-to-honor-and-celebrate-the-legacy-of-pope-francis/
LOCATION:Dorcas Chapel – Marian University\, 45 S. National Ave.\, Fond du Lac\, WI\, 54935\, United States
CATEGORIES:Chapel/Masses
ATTACH;FMTTYPE=image/jpeg:https://www.marianuniversity.edu/wp-content/uploads/2025/04/Pope-Francis-Prayer-Service-TUES-3pm-2.jpg
END:VEVENT
BEGIN:VEVENT
DTSTART;TZID=America/Chicago:20250411T080000
DTEND;TZID=America/Chicago:20250411T120000
DTSTAMP:20260423T045146
CREATED:20250310T172501Z
LAST-MODIFIED:20250401T180820Z
UID:988527-1744358400-1744372800@www.marianuniversity.edu
SUMMARY:C.A.R.E. Conference
DESCRIPTION:Event Details \nThe 3rd CARE (Care. Advocate. Reset. Educate.) Conference 2025 is a unique opportunity for helping professionals (which includes all members of the Marian Community!) to explore the intersection of ethics\, boundaries\, and self-care in their personal and professional lives. This conference is thoughtfully designed to provide attendees with practical strategies\, tools\, and frameworks to navigate the complex challenges of their fields while prioritizing their well-being. \nRegistration for members of the Marian Community is only $5\, and includes a hot breakfast buffet! \nConference Agenda: \n\n8:00-8:15am – Opening Welcome\n8:15-9:30am – Social Work Ethics & Boundaries in a Small Town\n9:30-10:45am – Boundaries in the Helping Professions\n10:45am-12pm – Staying Grounded: Ethical Decision Making & Self-Care in Practice
URL:https://www.marianuniversity.edu/event/c-a-r-e-conference-2/
LOCATION:Stayer Center Dining Room
CATEGORIES:Campus Event
ATTACH;FMTTYPE=image/jpeg:https://www.marianuniversity.edu/wp-content/uploads/2025/03/CARE-Conference.jpg
END:VEVENT
BEGIN:VEVENT
DTSTART;TZID=America/Chicago:20250325T180000
DTEND;TZID=America/Chicago:20250326T150000
DTSTAMP:20260423T045146
CREATED:20250123T154429Z
LAST-MODIFIED:20250318T201427Z
UID:988203-1742925600-1743001200@www.marianuniversity.edu
SUMMARY:Marian University 18th Annual Academic Symposium
DESCRIPTION:Marian University is proud to host the 18th Academic Symposium which explores “The Universal Impact of Technology and Communication: How Does It Influence Our Lives and the Lives of Our Leaders?” The symposium will take place on Tuesday evening\, March 25\, and Wednesday\, March 26\, 2025\, on the Marian University campus. \nHave you ever wondered\, “What role should artificial intelligence play in effective communication?” or “How do we balance emotional intelligence and digital literacy?” This year’s theme will address pressing questions about the moral\, social\, and economic implications of technological advancements\, including the use of artificial intelligence\, digital literacy\, and the balance between privacy and freedom in an interconnected world. The event will also explore how communication technologies impact leadership\, diversity\, equity\, inclusion\, and emotional intelligence. \nStudents\, faculty\, staff\, emeriti\, and members of the greater community are all invited to engage in meaningful dialogue about the ways technology and communication shape our personal lives\, workplaces\, and societal structures. The symposium will feature a mix of presentations\, panel discussions\, and interactive sessions.” \nFor more details\, click here.
URL:https://www.marianuniversity.edu/event/marian-university-18th-annual-academic-symposium/
LOCATION:Marian University\, 45 S National Ave.\, Fond du Lac\, WI\, 54935\, United States
CATEGORIES:Campus Event,Community
END:VEVENT
BEGIN:VEVENT
DTSTART;TZID=America/Chicago:20250313T090000
DTEND;TZID=America/Chicago:20250313T120000
DTSTAMP:20260423T045146
CREATED:20250207T141507Z
LAST-MODIFIED:20250207T141507Z
UID:988346-1741856400-1741867200@www.marianuniversity.edu
SUMMARY:Women In Construction 2025
DESCRIPTION:We’re thrilled to invite high school students\, technical college students and their educators to an inspiring\, hands-on Women in Construction event at Marian University on Thursday\, March 13\, 2025\, from 9:00 a.m. to Noon! \nThis event is all about empowering young minds to explore exciting careers in the ever-evolving construction industry.  And it celebrates National Women in Construction Week. \nHere’s what will make this event unforgettable: \n\nMeet a Trailblazer: Hear from Anastasia Kraft\, founder of Xena Workwear for Women\, as she shares her story of breaking barriers and building success in a traditionally male-dominated field.\nReal Stories\, Real Inspiration: A panel of amazing professionals—women and men—will reveal what it’s like to thrive in roles like construction management\, engineering\, estimating\, and design.\nAsk\, Learn\, Connect: Students will get the chance to ask questions\, engage with industry leaders\, and discover the endless possibilities in this dynamic field.\n\nWhy this event is a must-attend: \n\nExplore careers in construction beyond hard hats—think innovation\, creativity\, and leadership.\nGet inspired by stories of women shattering stereotypes and proving there’s room for everyone in this industry.\nFind out about scholarship opportunities\, exciting programs at Marian University\, and pathways to a successful future!\n\nThis event isn’t just a presentation—it’s a chance to dream big\, think boldly\, and see what’s possible.  Join us and leave feeling motivated to tackle the future. Let us know if your school would like to participate or if you need more details. We’re happy to help with any questions. Thank you for helping us inspire the next generation of innovators and leaders! \nRSVP: Kylene Schwark by March 6\, 2025\, for boxed lunch:  keschwark15@marianuniversity.edu \nIf you have any questions\, please contact Callista Gould\, Assistant Vice President for Marketing and Communications with Marian University: cgould95@marianuniversity.edu or call: 920-923-8115.
URL:https://www.marianuniversity.edu/event/women-in-construction-2025/
LOCATION:Stayer Center  – Marian University\, 45 S. National Ave.\, Fond du Lac\, WI\, 54935\, United States
CATEGORIES:Campus Event
ATTACH;FMTTYPE=image/jpeg:https://www.marianuniversity.edu/wp-content/uploads/2025/02/Women-in-Construction-Event.jpg
END:VEVENT
BEGIN:VEVENT
DTSTART;TZID=America/Chicago:20250217T090000
DTEND;TZID=America/Chicago:20250217T120000
DTSTAMP:20260423T045146
CREATED:20250207T141903Z
LAST-MODIFIED:20250207T141903Z
UID:988349-1739782800-1739793600@www.marianuniversity.edu
SUMMARY:Sabre Days Open House
DESCRIPTION:Marian University is having an Open House on Monday\, February 17!  While you have the day off for President’s Day\, come visit Marian University.  Tour the campus\, explore majors\, meet current students\, and learn about financial aid. Attend and earn a $1\,000/year scholarship at Marian! Sign up here!
URL:https://www.marianuniversity.edu/event/sabre-days-open-house-2/
LOCATION:Marian University\, 45 S National Ave.\, Fond du Lac\, WI\, 54935\, United States
CATEGORIES:Admission
ATTACH;FMTTYPE=image/jpeg:https://www.marianuniversity.edu/wp-content/uploads/2025/02/Campus-Visit-scaled.jpg
END:VEVENT
BEGIN:VEVENT
DTSTART;TZID=America/Chicago:20250123T100000
DTEND;TZID=America/Chicago:20250123T150000
DTSTAMP:20260423T045146
CREATED:20250123T154231Z
LAST-MODIFIED:20250123T154231Z
UID:988200-1737626400-1737644400@www.marianuniversity.edu
SUMMARY:Marian University Blood Drive
DESCRIPTION:“Be a lifesaver: Join Marian University’s Blood Drive on January 23rd from 10:00 AM to 3:00 PM at the Stayer Center! Every two seconds\, someone in the U.S. needs blood\, making donations critical to saving lives. Help support the Red Cross’s lifesaving efforts by signing up to donate blood here: https://www.redcrossblood.org/give.html/drive-results?zipSponsor=SABRES \nFor questions\, reach out to sncarpenter19@marianuniversity.edu.”
URL:https://www.marianuniversity.edu/event/marian-university-blood-drive/
LOCATION:Stayer Center Dining Room
ATTACH;FMTTYPE=image/png:https://www.marianuniversity.edu/wp-content/uploads/2025/01/Instagram-Post-Blood-Drive-1-1.png
END:VEVENT
BEGIN:VEVENT
DTSTART;TZID=America/Chicago:20250120T073000
DTEND;TZID=America/Chicago:20250120T083000
DTSTAMP:20260423T045146
CREATED:20250108T175511Z
LAST-MODIFIED:20250108T175538Z
UID:988084-1737358200-1737361800@www.marianuniversity.edu
SUMMARY:Martin Luther King Jr. Community Prayer Breakfast
DESCRIPTION:
URL:https://www.marianuniversity.edu/event/martin-luther-king-jr-community-prayer-breakfast-2/
LOCATION:Stayer Center Dining Room
CATEGORIES:Community
ATTACH;FMTTYPE=image/jpeg:https://www.marianuniversity.edu/wp-content/uploads/2024/12/MLK-Image.jpg
END:VEVENT
BEGIN:VEVENT
DTSTART;TZID=America/Chicago:20241207T090000
DTEND;TZID=America/Chicago:20241207T140000
DTSTAMP:20260423T045146
CREATED:20241125T212141Z
LAST-MODIFIED:20241125T212141Z
UID:987903-1733562000-1733580000@www.marianuniversity.edu
SUMMARY:Christmas Market
DESCRIPTION:Open to the community\, we’ll have over 50 vendors selling Christmas items.  Do a little Christmas shopping or pick up something special for yourself! For questions\, reach out to Stephanie Carpenter\, Director of Student Involvement: sncarpenter19@marianuniversity.edu
URL:https://www.marianuniversity.edu/event/christmas-market/
LOCATION:Ridenour Science Center – Marian University\, 45 S. National Ave.\, Fond du Lac\, WI\, 54935\, United States
CATEGORIES:Campus Event,Community
ATTACH;FMTTYPE=image/png:https://www.marianuniversity.edu/wp-content/uploads/2024/11/marian-university-Instagram-Post-2.png
END:VEVENT
BEGIN:VEVENT
DTSTART;TZID=America/Chicago:20241205T170000
DTEND;TZID=America/Chicago:20241205T200000
DTSTAMP:20260423T045146
CREATED:20241125T211950Z
LAST-MODIFIED:20241125T211950Z
UID:987899-1733418000-1733428800@www.marianuniversity.edu
SUMMARY:Meet Santa at Marian University!
DESCRIPTION:Free and open to the public.  Bring your children to meet Santa\, the Grinch\, and Sammy Claws. And don’t forget to bring your camera – everyone is capturing their own photos.  For questions\, reach out to Brooke Spanbauer\, Director of Hospitality: bespanbauer96@marianuniversity.edu
URL:https://www.marianuniversity.edu/event/meet-santa-at-marian-university/
LOCATION:Sabre Cafe\, 740 E. Division St.\, Fond du Lac\, WI\, 54935\, United States
CATEGORIES:Campus Event
ATTACH;FMTTYPE=image/png:https://www.marianuniversity.edu/wp-content/uploads/2024/11/Meet-Santa_.png
END:VEVENT
BEGIN:VEVENT
DTSTART;TZID=America/Chicago:20241117T100000
DTEND;TZID=America/Chicago:20241117T150000
DTSTAMP:20260423T045146
CREATED:20241105T141106Z
LAST-MODIFIED:20241105T141106Z
UID:987748-1731837600-1731855600@www.marianuniversity.edu
SUMMARY:Autograph Signing & Tailgate Party with Dr. George Koonce
DESCRIPTION:
URL:https://www.marianuniversity.edu/event/autograph-signing-tailgate-party-with-dr-george-koonce/
LOCATION:Stayer Center  – Marian University\, 45 S. National Ave.\, Fond du Lac\, WI\, 54935\, United States
CATEGORIES:Campus Event
ATTACH;FMTTYPE=image/png:https://www.marianuniversity.edu/wp-content/uploads/2024/11/4.5-x-4.5-in-Instagram-Post.png
END:VEVENT
BEGIN:VEVENT
DTSTART;TZID=America/Chicago:20241108T090000
DTEND;TZID=America/Chicago:20241108T120000
DTSTAMP:20260423T045146
CREATED:20241023T133917Z
LAST-MODIFIED:20241023T133917Z
UID:987603-1731056400-1731067200@www.marianuniversity.edu
SUMMARY:Sabre Day (Open House)
DESCRIPTION:
URL:https://www.marianuniversity.edu/event/sabre-day-open-house-4/
LOCATION:Marian University\, 45 S National Ave.\, Fond du Lac\, WI\, 54935\, United States
CATEGORIES:Admission
ATTACH;FMTTYPE=image/jpeg:https://www.marianuniversity.edu/wp-content/uploads/2024/10/Group-Shot-Welcome-Center_2-scaled.jpg
END:VEVENT
BEGIN:VEVENT
DTSTART;TZID=America/Chicago:20241102T190000
DTEND;TZID=America/Chicago:20241102T213000
DTSTAMP:20260423T045146
CREATED:20241023T133335Z
LAST-MODIFIED:20241023T133624Z
UID:987600-1730574000-1730583000@www.marianuniversity.edu
SUMMARY:Wine Around the World
DESCRIPTION:
URL:https://www.marianuniversity.edu/event/wine-around-the-world/
LOCATION:Stayer Center Dining Room
CATEGORIES:Campus Event,Community
ATTACH;FMTTYPE=image/jpeg:https://www.marianuniversity.edu/wp-content/uploads/2024/10/Wine-Around-the-World.jpg
END:VEVENT
BEGIN:VEVENT
DTSTART;VALUE=DATE:20240620
DTEND;VALUE=DATE:20240621
DTSTAMP:20260423T045146
CREATED:20240319T151145Z
LAST-MODIFIED:20240319T151145Z
UID:955576-1718841600-1718927999@www.marianuniversity.edu
SUMMARY:At Risk Alternative Education / Angel-Warrior Educator Forum
DESCRIPTION:
URL:https://www.marianuniversity.edu/event/at-risk-alternative-education-angel-warrior-educator-forum/
LOCATION:Marian University\, 45 S National Ave.\, Fond du Lac\, WI\, 54935\, United States
ATTACH;FMTTYPE=image/jpeg:https://www.marianuniversity.edu/wp-content/uploads/2024/03/AWEN-Logo-3-scaled.jpg
END:VEVENT
BEGIN:VEVENT
DTSTART;TZID=America/Chicago:20240617T100000
DTEND;TZID=America/Chicago:20240617T170000
DTSTAMP:20260423T045146
CREATED:20240319T150945Z
LAST-MODIFIED:20240528T204706Z
UID:955560-1718618400-1718643600@www.marianuniversity.edu
SUMMARY:Alumni & Friends Golf Outing
DESCRIPTION:10 am – Registration and Lunch\n11 am –  Shotgun start\n5 pm – Reception and Program (Announce hole\, team\, and raffle winners)
URL:https://www.marianuniversity.edu/event/alumni-friends-golf-outing/
LOCATION:South Hills Golf & Country Club\, 1175 Fond du Lac Ave\, Fond du Lac\, WI\, 54935\, United States
ATTACH;FMTTYPE=image/jpeg:https://www.marianuniversity.edu/wp-content/uploads/2024/03/South-Hills-e1709328954935.jpg
END:VEVENT
BEGIN:VEVENT
DTSTART;VALUE=DATE:20240610
DTEND;VALUE=DATE:20240614
DTSTAMP:20260423T045146
CREATED:20240319T150355Z
LAST-MODIFIED:20240319T151254Z
UID:955557-1717977600-1718323199@www.marianuniversity.edu
SUMMARY:Nurse Camp
DESCRIPTION:
URL:https://www.marianuniversity.edu/event/nurse-camp/
LOCATION:Marian University\, 45 S National Ave.\, Fond du Lac\, WI\, 54935\, United States
ATTACH;FMTTYPE=image/png:https://www.marianuniversity.edu/wp-content/uploads/2024/02/NurseCamp2.png
END:VEVENT
BEGIN:VEVENT
DTSTART;TZID=America/Chicago:20240504T123000
DTEND;TZID=America/Chicago:20240504T143000
DTSTAMP:20260423T045146
CREATED:20240319T144614Z
LAST-MODIFIED:20240319T151329Z
UID:955508-1714825800-1714833000@www.marianuniversity.edu
SUMMARY:Marian University Commencement
DESCRIPTION:
URL:https://www.marianuniversity.edu/event/marian-university-commencement/
LOCATION:Herr-Baker Field – Marian University\, 45 S. National Ave.\, Fond du Lac\, WI\, 54935\, United States
ATTACH;FMTTYPE=image/jpeg:https://www.marianuniversity.edu/wp-content/uploads/2024/03/Pres-Majewski-and-Grads-scaled.jpeg
END:VEVENT
BEGIN:VEVENT
DTSTART;TZID=America/Chicago:20231025T171500
DTEND;TZID=America/Chicago:20231025T210000
DTSTAMP:20260423T045146
CREATED:20231016T195332Z
LAST-MODIFIED:20231016T195411Z
UID:465494-1698254100-1698267600@www.marianuniversity.edu
SUMMARY:Business and Industry Awards Dinner
DESCRIPTION:5:15 pm  Reception\n6:00 pm  Dinner \nDress – Business Attire\n$125 per person\nProceeds to support student scholarships \nR.S.V.P. by Wednesday\, October 18th to Brooke Spanbauer: 920-923-8643 or specialevents@marianuniversity.edu
URL:https://www.marianuniversity.edu/event/business-and-industry-awards-dinner/
LOCATION:Stayer Center Dining Room
CATEGORIES:Campus Event,Community
ATTACH;FMTTYPE=image/png:https://www.marianuniversity.edu/wp-content/uploads/2023/10/IMG_8651_Scaled.png
END:VEVENT
BEGIN:VEVENT
DTSTART;VALUE=DATE:20230923
DTEND;VALUE=DATE:20230925
DTSTAMP:20260423T045146
CREATED:20221116T154811Z
LAST-MODIFIED:20221116T154811Z
UID:51844-1695427200-1695599999@www.marianuniversity.edu
SUMMARY:Homecoming
DESCRIPTION:
URL:https://www.marianuniversity.edu/event/homecoming-2/
LOCATION:Marian University\, 45 S National Ave.\, Fond du Lac\, WI\, 54935\, United States
CATEGORIES:Campus Event
END:VEVENT
BEGIN:VEVENT
DTSTART;TZID=America/Chicago:20230921T090000
DTEND;TZID=America/Chicago:20230921T170000
DTSTAMP:20260423T045146
CREATED:20230827T224614Z
LAST-MODIFIED:20230827T224815Z
UID:323414-1695286800-1695315600@www.marianuniversity.edu
SUMMARY:Conversations\, Connections and Community
DESCRIPTION:9:25 am – 5:00 pm\n\nMarian University is hosting a gathering of Marian faculty\, staff\, students and alumni during Homecoming Week\, along with leaders from the local community and the general public for an opportunity to discuss issues surrounding higher education and career development. \n\nSession 1 – (9:25 am -10:30 am)\nThe Brain Drain in Wisconsin: How to Keep Talent from Leaving the State\nKate Candee\nWhen educated or highly-skilled people leave our state\, it hurts.  This panel will examine how the outflow of people\, particularly those with advanced skills and/or education\, affects the economy and culture of Wisconsin.  The discussion will include the effect of the brain drain on job opportunities and the impact on the tax base\, as well as solutions to stem the tide of outflow.  Panelists will include representatives from academia\, industry and government\, as well as representatives from the communities most affected by the brain drain.  The goal is to generate an open dialogue that leads to actionable solutions to retain talent locally and in our state. \nSession 2 – (10:40 am –11:45 am)\nBridging the Generation Gap in the Workplace\nCallista Gould\nThere are as many as four generations working together in today’s workplace.  They think differently\, they communicate differently and have different expectations of what their work should be.  How can we all get along?  In this session\, our speaker and panel will tackle issues such as effective leadership\, communication\, productivity\, recruiting and retention. \nFeatured Speaker: Thomas Boyer\, Ph.D. Leadership Studies\, who just graduated from Marian University in May\, will present on his dissertation: “The Effect of Authentic Leadership on the Retention of a Multigenerational Workforce.” \nBreak: 11:45 am – 12:15 pm \nSession 3 – (12:15 pm – 1:30 pm)\nChatGPT – The Implications for Business and Education\nJim Gray and Johanna Groene\nIt’s banned in some places.  But can it be a force for good?  This panel will define and discuss ChatGPT (Chat Generative Pre-Trained Transformer)\, a chatbot that uses Artificial Intelligence to generate content.  Panelists will consider uses for ChatGPT in Business and Education\, ranging from producing “human-like” responses from customer inquiries through life chat integration\, to copy for websites\, emails\, flyers or similar visual advertising or electronic marketing media.  Discussions will address the effective use of ChatGPT question phrasing as well as the pitfalls\, and how to distinguish between accurate facts and reliable research vs. content that has incorporated misleading information. \nSession 4 – (1:40 pm –2:50 pm)\nEngaging in Career Conversations\nJessica Little\, Terri Passow and Therese Gedemer\nHow do we get university students more involved in our community?  In this workshop\, businesses in the community will give short presentations on their business’ impact on the community and opportunities for students. Then we’ll move to a roundtable format\, where students will have an opportunity to engage with businesses (including other panel members from previous sections).  There will be time limits\, so students have an opportunity to have face-to-face conversations with the businesses\, alumni and other speakers from the day. \nReception – (3:00-5:00)\nTime to converse about the topics\, network and connect!
URL:https://www.marianuniversity.edu/event/conversations-connections-and-community/
LOCATION:Marian University\, 45 S National Ave.\, Fond du Lac\, WI\, 54935\, United States
CATEGORIES:Campus Event
ATTACH;FMTTYPE=image/jpeg:https://www.marianuniversity.edu/wp-content/uploads/2023/08/Conversations-Connections-Community-scaled-e1693176479361.jpg
END:VEVENT
END:VCALENDAR