BEGIN:VCALENDAR
VERSION:2.0
PRODID:-//Marian University - ECPv6.15.20//NONSGML v1.0//EN
CALSCALE:GREGORIAN
METHOD:PUBLISH
X-ORIGINAL-URL:https://www.marianuniversity.edu
X-WR-CALDESC:Events for Marian University
REFRESH-INTERVAL;VALUE=DURATION:PT1H
X-Robots-Tag:noindex
X-PUBLISHED-TTL:PT1H
BEGIN:VTIMEZONE
TZID:America/Chicago
BEGIN:DAYLIGHT
TZOFFSETFROM:-0600
TZOFFSETTO:-0500
TZNAME:CDT
DTSTART:20200308T080000
END:DAYLIGHT
BEGIN:STANDARD
TZOFFSETFROM:-0500
TZOFFSETTO:-0600
TZNAME:CST
DTSTART:20201101T070000
END:STANDARD
BEGIN:DAYLIGHT
TZOFFSETFROM:-0600
TZOFFSETTO:-0500
TZNAME:CDT
DTSTART:20210314T080000
END:DAYLIGHT
BEGIN:STANDARD
TZOFFSETFROM:-0500
TZOFFSETTO:-0600
TZNAME:CST
DTSTART:20211107T070000
END:STANDARD
BEGIN:DAYLIGHT
TZOFFSETFROM:-0600
TZOFFSETTO:-0500
TZNAME:CDT
DTSTART:20220313T080000
END:DAYLIGHT
BEGIN:STANDARD
TZOFFSETFROM:-0500
TZOFFSETTO:-0600
TZNAME:CST
DTSTART:20221106T070000
END:STANDARD
END:VTIMEZONE
BEGIN:VEVENT
DTSTART;VALUE=DATE:20211230
DTEND;VALUE=DATE:20211231
DTSTAMP:20260422T232634
CREATED:20211222T221305Z
LAST-MODIFIED:20211222T221305Z
UID:47189-1640822400-1640908799@www.marianuniversity.edu
SUMMARY:Winter Break - University Closed
DESCRIPTION:
URL:https://www.marianuniversity.edu/event/winter-break-university-closed-3/
CATEGORIES:Marian University
END:VEVENT
BEGIN:VEVENT
DTSTART;VALUE=DATE:20211229
DTEND;VALUE=DATE:20211230
DTSTAMP:20260422T232634
CREATED:20211222T221223Z
LAST-MODIFIED:20211222T221223Z
UID:47187-1640736000-1640822399@www.marianuniversity.edu
SUMMARY:Winter Break - University Closed
DESCRIPTION:
URL:https://www.marianuniversity.edu/event/winter-break-university-closed-2/
CATEGORIES:Marian University
END:VEVENT
BEGIN:VEVENT
DTSTART;VALUE=DATE:20211228
DTEND;VALUE=DATE:20211229
DTSTAMP:20260422T232634
CREATED:20211222T220958Z
LAST-MODIFIED:20211222T221040Z
UID:47181-1640649600-1640735999@www.marianuniversity.edu
SUMMARY:Winter Break - University Closed
DESCRIPTION:
URL:https://www.marianuniversity.edu/event/winer-break-university-closed/
CATEGORIES:Marian University
END:VEVENT
BEGIN:VEVENT
DTSTART;VALUE=DATE:20211227
DTEND;VALUE=DATE:20211228
DTSTAMP:20260422T232634
CREATED:20211222T221126Z
LAST-MODIFIED:20211222T221126Z
UID:47185-1640563200-1640649599@www.marianuniversity.edu
SUMMARY:Winter Break - University Closed
DESCRIPTION:
URL:https://www.marianuniversity.edu/event/winter-break-university-closed/
CATEGORIES:Marian University
END:VEVENT
BEGIN:VEVENT
DTSTART;VALUE=DATE:20211208
DTEND;VALUE=DATE:20211209
DTSTAMP:20260422T232634
CREATED:20210905T212900Z
LAST-MODIFIED:20210905T212900Z
UID:45444-1638921600-1639007999@www.marianuniversity.edu
SUMMARY:Feast of the Immaculate Conception
DESCRIPTION:
URL:https://www.marianuniversity.edu/event/feast-of-the-immaculate-conception/
CATEGORIES:Marian University
END:VEVENT
BEGIN:VEVENT
DTSTART;TZID=America/Chicago:20211108T080000
DTEND;TZID=America/Chicago:20211111T170000
DTSTAMP:20260422T232634
CREATED:20210905T212524Z
LAST-MODIFIED:20210905T212524Z
UID:45438-1636358400-1636650000@www.marianuniversity.edu
SUMMARY:Military Appreciation Week
DESCRIPTION:
URL:https://www.marianuniversity.edu/event/military-appreciation-week/
LOCATION:Marian University\, 45 S National Ave.\, Fond du Lac\, WI\, 54935\, United States
CATEGORIES:Marian University
END:VEVENT
BEGIN:VEVENT
DTSTART;TZID=America/Chicago:20211018T080000
DTEND;TZID=America/Chicago:20211021T170000
DTSTAMP:20260422T232634
CREATED:20210905T212234Z
LAST-MODIFIED:20210905T212234Z
UID:45434-1634544000-1634835600@www.marianuniversity.edu
SUMMARY:Marian Mission & Values Week
DESCRIPTION:
URL:https://www.marianuniversity.edu/event/marian-mission-values-week/
LOCATION:Marian University\, 45 S National Ave.\, Fond du Lac\, WI\, 54935\, United States
CATEGORIES:Marian University
END:VEVENT
BEGIN:VEVENT
DTSTART;VALUE=DATE:20211001
DTEND;VALUE=DATE:20211002
DTSTAMP:20260422T232634
CREATED:20210905T212109Z
LAST-MODIFIED:20210905T212109Z
UID:45432-1633046400-1633132799@www.marianuniversity.edu
SUMMARY:Campus Beautification Day
DESCRIPTION:
URL:https://www.marianuniversity.edu/event/campus-beautification-day/
LOCATION:Marian University\, 45 S National Ave.\, Fond du Lac\, WI\, 54935\, United States
CATEGORIES:Marian University
END:VEVENT
BEGIN:VEVENT
DTSTART;TZID=America/Chicago:20210925T190000
DTEND;TZID=America/Chicago:20210925T210000
DTSTAMP:20260422T232634
CREATED:20210905T202403Z
LAST-MODIFIED:20210905T202403Z
UID:45383-1632596400-1632603600@www.marianuniversity.edu
SUMMARY:Regatta/Music on the Patio
DESCRIPTION:
URL:https://www.marianuniversity.edu/event/regatta-music-on-the-patio/
LOCATION:Stayer Center – Upper Patio
CATEGORIES:Campus Event,Marian University
END:VEVENT
BEGIN:VEVENT
DTSTART;TZID=America/Chicago:20210925T143000
DTEND;TZID=America/Chicago:20210925T163000
DTSTAMP:20260422T232634
CREATED:20210905T202115Z
LAST-MODIFIED:20210905T202115Z
UID:45381-1632580200-1632587400@www.marianuniversity.edu
SUMMARY:Men's Soccer vs Benedictine
DESCRIPTION:
URL:https://www.marianuniversity.edu/event/mens-soccer-vs-benedictine/
LOCATION:Smith Fields Complex – Marian University\, 45 S. National Ave.\, Fond du Lac\, WI\, 54935\, United States
CATEGORIES:Athletics,Marian University
END:VEVENT
BEGIN:VEVENT
DTSTART;TZID=America/Chicago:20210925T130000
DTEND;TZID=America/Chicago:20210925T150000
DTSTAMP:20260422T232634
CREATED:20210905T201938Z
LAST-MODIFIED:20210905T201938Z
UID:45378-1632574800-1632582000@www.marianuniversity.edu
SUMMARY:Bean Bag Toss Tourney
DESCRIPTION:
URL:https://www.marianuniversity.edu/event/bean-bag-toss-tourney/
LOCATION:Smith Fields Complex – Marian University\, 45 S. National Ave.\, Fond du Lac\, WI\, 54935\, United States
CATEGORIES:Campus Event,Marian University
END:VEVENT
BEGIN:VEVENT
DTSTART;TZID=America/Chicago:20210925T130000
DTEND;TZID=America/Chicago:20210925T150000
DTSTAMP:20260422T232634
CREATED:20210905T201405Z
LAST-MODIFIED:20210905T201405Z
UID:45374-1632574800-1632582000@www.marianuniversity.edu
SUMMARY:Alumnae Softball Game
DESCRIPTION:
URL:https://www.marianuniversity.edu/event/alumnae-softball-game/
LOCATION:Smith Fields Complex – Marian University\, 45 S. National Ave.\, Fond du Lac\, WI\, 54935\, United States
CATEGORIES:Athletics,Marian University
END:VEVENT
BEGIN:VEVENT
DTSTART;TZID=America/Chicago:20210925T090000
DTEND;TZID=America/Chicago:20210925T120000
DTSTAMP:20260422T232634
CREATED:20210621T154152Z
LAST-MODIFIED:20210621T160025Z
UID:42419-1632560400-1632571200@www.marianuniversity.edu
SUMMARY:Sabre Day
DESCRIPTION:Join your future classmates while faculty and coaches explain what life at Marian is all about. Learn about academics\, scholarships\, and financial aid; then enjoy a campus tour guided by one of our Student Ambassadors.
URL:https://www.marianuniversity.edu/event/sabre-day-2/
LOCATION:Marian University\, 45 S National Ave.\, Fond du Lac\, WI\, 54935\, United States
CATEGORIES:Marian University
END:VEVENT
BEGIN:VEVENT
DTSTART;TZID=America/Chicago:20210924T210000
DTEND;TZID=America/Chicago:20210924T230000
DTSTAMP:20260422T232634
CREATED:20210905T200644Z
LAST-MODIFIED:20210905T200644Z
UID:45367-1632517200-1632524400@www.marianuniversity.edu
SUMMARY:Bonfire
DESCRIPTION:
URL:https://www.marianuniversity.edu/event/bonfire/
LOCATION:Courtyard Village
CATEGORIES:Marian University
END:VEVENT
BEGIN:VEVENT
DTSTART;TZID=America/Chicago:20210924T100000
DTEND;TZID=America/Chicago:20210924T190000
DTSTAMP:20260422T232634
CREATED:20210905T200439Z
LAST-MODIFIED:20210905T200439Z
UID:45364-1632477600-1632510000@www.marianuniversity.edu
SUMMARY:Korbie Classic Annual Alumni Golf Outing
DESCRIPTION:
URL:https://www.marianuniversity.edu/event/korbie-classic-annual-alumni-golf-outing/
LOCATION:Whispering Springs Golf Course
CATEGORIES:Athletics,Marian University
END:VEVENT
BEGIN:VEVENT
DTSTART;TZID=America/Chicago:20210908T120000
DTEND;TZID=America/Chicago:20210908T123000
DTSTAMP:20260422T232634
CREATED:20210905T204823Z
LAST-MODIFIED:20210905T204823Z
UID:45402-1631102400-1631104200@www.marianuniversity.edu
SUMMARY:Memorial Tribute - 20th Anniversary of 9/11
DESCRIPTION:
URL:https://www.marianuniversity.edu/event/memorial-tribute-20th-anniversary-of-9-11/
LOCATION:Marian University Quad\, 45 S. National Ave.\, Fond du Lac\, WI\, 54935\, United States
CATEGORIES:Marian University
END:VEVENT
BEGIN:VEVENT
DTSTART;TZID=America/Chicago:20210908T080000
DTEND;TZID=America/Chicago:20210908T170000
DTSTAMP:20260422T232634
CREATED:20210621T153457Z
LAST-MODIFIED:20210901T162441Z
UID:42415-1631088000-1631120400@www.marianuniversity.edu
SUMMARY:Founder's Day
DESCRIPTION:Founder’s Day
URL:https://www.marianuniversity.edu/event/founders-day/
LOCATION:Marian University\, 45 S National Ave.\, Fond du Lac\, WI\, 54935\, United States
CATEGORIES:Marian University
END:VEVENT
BEGIN:VEVENT
DTSTART;TZID=America/Chicago:20210906T080000
DTEND;TZID=America/Chicago:20210906T170000
DTSTAMP:20260422T232634
CREATED:20210621T155754Z
LAST-MODIFIED:20210621T155754Z
UID:42429-1630915200-1630947600@www.marianuniversity.edu
SUMMARY:Labor Day - University Closed/No Classes
DESCRIPTION:
URL:https://www.marianuniversity.edu/event/labor-day-university-closed-no-classes/
LOCATION:Marian University\, 45 S National Ave.\, Fond du Lac\, WI\, 54935\, United States
CATEGORIES:Marian University
END:VEVENT
BEGIN:VEVENT
DTSTART;TZID=America/Chicago:20210820T090000
DTEND;TZID=America/Chicago:20210820T120000
DTSTAMP:20260422T232634
CREATED:20210621T152944Z
LAST-MODIFIED:20210824T174000Z
UID:42409-1629450000-1629460800@www.marianuniversity.edu
SUMMARY:Sabre Day - August
DESCRIPTION:Join your future classmates while faculty and coaches explain what life at Marian is all about. Learn about academics\, scholarships\, and financial aid; then enjoy a campus tour guided by one of our Student Ambassadors.
URL:https://www.marianuniversity.edu/event/sabre-day/
LOCATION:Marian University\, 45 S National Ave.\, Fond du Lac\, WI\, 54935\, United States
CATEGORIES:Marian University
END:VEVENT
BEGIN:VEVENT
DTSTART;TZID=America/Chicago:20210713T080000
DTEND;TZID=America/Chicago:20210717T170000
DTSTAMP:20260422T232634
CREATED:20210621T152709Z
LAST-MODIFIED:20210629T201728Z
UID:42407-1626163200-1626541200@www.marianuniversity.edu
SUMMARY:Private College Week
DESCRIPTION:
URL:https://www.marianuniversity.edu/event/private-college-week/
LOCATION:Marian University\, 45 S National Ave.\, Fond du Lac\, WI\, 54935\, United States
CATEGORIES:Marian University
END:VEVENT
END:VCALENDAR