BEGIN:VCALENDAR
VERSION:2.0
PRODID:-//Marian University - ECPv6.15.20//NONSGML v1.0//EN
CALSCALE:GREGORIAN
METHOD:PUBLISH
X-WR-CALNAME:Marian University
X-ORIGINAL-URL:https://www.marianuniversity.edu
X-WR-CALDESC:Events for Marian University
REFRESH-INTERVAL;VALUE=DURATION:PT1H
X-Robots-Tag:noindex
X-PUBLISHED-TTL:PT1H
BEGIN:VTIMEZONE
TZID:America/Chicago
BEGIN:DAYLIGHT
TZOFFSETFROM:-0600
TZOFFSETTO:-0500
TZNAME:CDT
DTSTART:20210314T080000
END:DAYLIGHT
BEGIN:STANDARD
TZOFFSETFROM:-0500
TZOFFSETTO:-0600
TZNAME:CST
DTSTART:20211107T070000
END:STANDARD
BEGIN:DAYLIGHT
TZOFFSETFROM:-0600
TZOFFSETTO:-0500
TZNAME:CDT
DTSTART:20220313T080000
END:DAYLIGHT
BEGIN:STANDARD
TZOFFSETFROM:-0500
TZOFFSETTO:-0600
TZNAME:CST
DTSTART:20221106T070000
END:STANDARD
BEGIN:DAYLIGHT
TZOFFSETFROM:-0600
TZOFFSETTO:-0500
TZNAME:CDT
DTSTART:20230312T080000
END:DAYLIGHT
BEGIN:STANDARD
TZOFFSETFROM:-0500
TZOFFSETTO:-0600
TZNAME:CST
DTSTART:20231105T070000
END:STANDARD
BEGIN:DAYLIGHT
TZOFFSETFROM:-0600
TZOFFSETTO:-0500
TZNAME:CDT
DTSTART:20240310T080000
END:DAYLIGHT
BEGIN:STANDARD
TZOFFSETFROM:-0500
TZOFFSETTO:-0600
TZNAME:CST
DTSTART:20241103T070000
END:STANDARD
BEGIN:DAYLIGHT
TZOFFSETFROM:-0600
TZOFFSETTO:-0500
TZNAME:CDT
DTSTART:20250309T080000
END:DAYLIGHT
BEGIN:STANDARD
TZOFFSETFROM:-0500
TZOFFSETTO:-0600
TZNAME:CST
DTSTART:20251102T070000
END:STANDARD
BEGIN:DAYLIGHT
TZOFFSETFROM:-0600
TZOFFSETTO:-0500
TZNAME:CDT
DTSTART:20260308T080000
END:DAYLIGHT
BEGIN:STANDARD
TZOFFSETFROM:-0500
TZOFFSETTO:-0600
TZNAME:CST
DTSTART:20261101T070000
END:STANDARD
END:VTIMEZONE
BEGIN:VEVENT
DTSTART;TZID=America/Chicago:20250502T170000
DTEND;TZID=America/Chicago:20250502T190000
DTSTAMP:20260422T201214
CREATED:20250424T205543Z
LAST-MODIFIED:20250424T205543Z
UID:989053-1746205200-1746212400@www.marianuniversity.edu
SUMMARY:Education Commissioning
DESCRIPTION:
URL:https://www.marianuniversity.edu/event/education-commissioning/
LOCATION:Dorcas Chapel – Marian University\, 45 S. National Ave.\, Fond du Lac\, WI\, 54935\, United States
CATEGORIES:Chapel/Masses
END:VEVENT
BEGIN:VEVENT
DTSTART;TZID=America/Chicago:20250502T140000
DTEND;TZID=America/Chicago:20250502T150000
DTSTAMP:20260422T201214
CREATED:20250424T181204Z
LAST-MODIFIED:20250424T181204Z
UID:989051-1746194400-1746198000@www.marianuniversity.edu
SUMMARY:Baccalaureate Prayer Service
DESCRIPTION:
URL:https://www.marianuniversity.edu/event/baccalaureate-prayer-service/
LOCATION:Dorcas Chapel – Marian University\, 45 S. National Ave.\, Fond du Lac\, WI\, 54935\, United States
CATEGORIES:Chapel/Masses
END:VEVENT
BEGIN:VEVENT
DTSTART;TZID=America/Chicago:20250422T150000
DTEND;TZID=America/Chicago:20250422T160000
DTSTAMP:20260422T201214
CREATED:20250422T130811Z
LAST-MODIFIED:20250422T130811Z
UID:989036-1745334000-1745337600@www.marianuniversity.edu
SUMMARY:Prayer Service to Honor and Celebrate the Legacy of Pope Francis
DESCRIPTION:
URL:https://www.marianuniversity.edu/event/prayer-service-to-honor-and-celebrate-the-legacy-of-pope-francis/
LOCATION:Dorcas Chapel – Marian University\, 45 S. National Ave.\, Fond du Lac\, WI\, 54935\, United States
CATEGORIES:Chapel/Masses
ATTACH;FMTTYPE=image/jpeg:https://www.marianuniversity.edu/wp-content/uploads/2025/04/Pope-Francis-Prayer-Service-TUES-3pm-2.jpg
END:VEVENT
BEGIN:VEVENT
DTSTART;TZID=America/Chicago:20230226T170000
DTEND;TZID=America/Chicago:20230226T180000
DTSTAMP:20260422T201214
CREATED:20230118T144451Z
LAST-MODIFIED:20230118T152556Z
UID:52523-1677430800-1677434400@www.marianuniversity.edu
SUMMARY:Mass
DESCRIPTION:Dorcas Chapel\n5:00 pm\nOpen to the public\nJoin us for our regular Sunday evening Catholic Mass\, which is open to the public.
URL:https://www.marianuniversity.edu/event/mass-41/
LOCATION:Dorcas Chapel – Marian University\, 45 S. National Ave.\, Fond du Lac\, WI\, 54935\, United States
CATEGORIES:Chapel/Masses
ATTACH;FMTTYPE=image/jpeg:https://www.marianuniversity.edu/wp-content/uploads/2023/01/Dorcas-Chapel_Sunday-Mass_169.jpg
END:VEVENT
BEGIN:VEVENT
DTSTART;TZID=America/Chicago:20230222T120000
DTEND;TZID=America/Chicago:20230222T123000
DTSTAMP:20260422T201214
CREATED:20230116T190448Z
LAST-MODIFIED:20230116T190448Z
UID:52486-1677067200-1677069000@www.marianuniversity.edu
SUMMARY:Ash Wednesday
DESCRIPTION:Dorcas Chapel\n12:00 pm\nOpen to the public\nCome for Mass and the distribution of Ashes\, as Catholics begin the 40 Days of Lent\, in preparation for Easter.
URL:https://www.marianuniversity.edu/event/ash-wednesday/
LOCATION:Dorcas Chapel – Marian University\, 45 S. National Ave.\, Fond du Lac\, WI\, 54935\, United States
CATEGORIES:Chapel/Masses
END:VEVENT
BEGIN:VEVENT
DTSTART;TZID=America/Chicago:20230219T170000
DTEND;TZID=America/Chicago:20230219T180000
DTSTAMP:20260422T201214
CREATED:20230116T190254Z
LAST-MODIFIED:20230125T195641Z
UID:52484-1676826000-1676829600@www.marianuniversity.edu
SUMMARY:Mass
DESCRIPTION:Dorcas Chapel\n5:00 pm\nOpen to the public\nJoin us for our regular Sunday evening Catholic Mass\, which is open to the public.
URL:https://www.marianuniversity.edu/event/mass-40/
LOCATION:Dorcas Chapel – Marian University\, 45 S. National Ave.\, Fond du Lac\, WI\, 54935\, United States
CATEGORIES:Chapel/Masses
ATTACH;FMTTYPE=image/jpeg:https://www.marianuniversity.edu/wp-content/uploads/2023/01/Dorcas-Chapel_Sunday-Mass_169.jpg
END:VEVENT
BEGIN:VEVENT
DTSTART;TZID=America/Chicago:20230212T170000
DTEND;TZID=America/Chicago:20230212T180000
DTSTAMP:20260422T201214
CREATED:20230113T202614Z
LAST-MODIFIED:20230125T195708Z
UID:52400-1676221200-1676224800@www.marianuniversity.edu
SUMMARY:Mass
DESCRIPTION:Join us for our regular Sunday evening Catholic Mass\, which is open to the public.
URL:https://www.marianuniversity.edu/event/mass-39/
LOCATION:Dorcas Chapel – Marian University\, 45 S. National Ave.\, Fond du Lac\, WI\, 54935\, United States
CATEGORIES:Chapel/Masses
ATTACH;FMTTYPE=image/jpeg:https://www.marianuniversity.edu/wp-content/uploads/2023/01/Dorcas-Chapel_Sunday-Mass_169.jpg
END:VEVENT
BEGIN:VEVENT
DTSTART;TZID=America/Chicago:20230205T170000
DTEND;TZID=America/Chicago:20230205T180000
DTSTAMP:20260422T201214
CREATED:20230113T202341Z
LAST-MODIFIED:20230125T195723Z
UID:52397-1675616400-1675620000@www.marianuniversity.edu
SUMMARY:Mass
DESCRIPTION:Join us for our regular Sunday evening Catholic Mass\, which is open to the public.
URL:https://www.marianuniversity.edu/event/mass-38/
LOCATION:Dorcas Chapel – Marian University\, 45 S. National Ave.\, Fond du Lac\, WI\, 54935\, United States
CATEGORIES:Chapel/Masses
ATTACH;FMTTYPE=image/jpeg:https://www.marianuniversity.edu/wp-content/uploads/2023/01/Dorcas-Chapel_Sunday-Mass_169.jpg
END:VEVENT
BEGIN:VEVENT
DTSTART;TZID=America/Chicago:20230129T170000
DTEND;TZID=America/Chicago:20230129T180000
DTSTAMP:20260422T201214
CREATED:20230113T202150Z
LAST-MODIFIED:20230125T195738Z
UID:52393-1675011600-1675015200@www.marianuniversity.edu
SUMMARY:Mass
DESCRIPTION:Join us for our regular Sunday evening Catholic Mass\, which is open to the public.
URL:https://www.marianuniversity.edu/event/mass-37/
LOCATION:Dorcas Chapel – Marian University\, 45 S. National Ave.\, Fond du Lac\, WI\, 54935\, United States
CATEGORIES:Chapel/Masses
ATTACH;FMTTYPE=image/jpeg:https://www.marianuniversity.edu/wp-content/uploads/2023/01/Dorcas-Chapel_Sunday-Mass_169.jpg
END:VEVENT
BEGIN:VEVENT
DTSTART;TZID=America/Chicago:20230122T170000
DTEND;TZID=America/Chicago:20230122T180000
DTSTAMP:20260422T201214
CREATED:20230113T201945Z
LAST-MODIFIED:20230125T195750Z
UID:52390-1674406800-1674410400@www.marianuniversity.edu
SUMMARY:Mass
DESCRIPTION:Join us for our regular Sunday evening Catholic Mass\, which is open to the public.
URL:https://www.marianuniversity.edu/event/mass-36/
LOCATION:Dorcas Chapel – Marian University\, 45 S. National Ave.\, Fond du Lac\, WI\, 54935\, United States
CATEGORIES:Chapel/Masses
ATTACH;FMTTYPE=image/jpeg:https://www.marianuniversity.edu/wp-content/uploads/2023/01/Dorcas-Chapel_Sunday-Mass_169.jpg
END:VEVENT
BEGIN:VEVENT
DTSTART;TZID=America/Chicago:20221204T170000
DTEND;TZID=America/Chicago:20221204T180000
DTSTAMP:20260422T201214
CREATED:20220901T190019Z
LAST-MODIFIED:20220901T190019Z
UID:50887-1670173200-1670176800@www.marianuniversity.edu
SUMMARY:Mass
DESCRIPTION:
URL:https://www.marianuniversity.edu/event/mass-35/
LOCATION:Dorcas Chapel – Marian University\, 45 S. National Ave.\, Fond du Lac\, WI\, 54935\, United States
CATEGORIES:Chapel/Masses
END:VEVENT
BEGIN:VEVENT
DTSTART;TZID=America/Chicago:20221120T170000
DTEND;TZID=America/Chicago:20221120T180000
DTSTAMP:20260422T201214
CREATED:20220901T185929Z
LAST-MODIFIED:20220901T185929Z
UID:50885-1668963600-1668967200@www.marianuniversity.edu
SUMMARY:Mass
DESCRIPTION:
URL:https://www.marianuniversity.edu/event/mass-34/
LOCATION:Dorcas Chapel – Marian University\, 45 S. National Ave.\, Fond du Lac\, WI\, 54935\, United States
CATEGORIES:Chapel/Masses
END:VEVENT
BEGIN:VEVENT
DTSTART;TZID=America/Chicago:20221113T170000
DTEND;TZID=America/Chicago:20221113T180000
DTSTAMP:20260422T201214
CREATED:20220901T185842Z
LAST-MODIFIED:20220901T185842Z
UID:50883-1668358800-1668362400@www.marianuniversity.edu
SUMMARY:Mass
DESCRIPTION:
URL:https://www.marianuniversity.edu/event/mass-33/
LOCATION:Dorcas Chapel – Marian University\, 45 S. National Ave.\, Fond du Lac\, WI\, 54935\, United States
CATEGORIES:Chapel/Masses
END:VEVENT
BEGIN:VEVENT
DTSTART;TZID=America/Chicago:20221106T170000
DTEND;TZID=America/Chicago:20221106T180000
DTSTAMP:20260422T201214
CREATED:20220901T185731Z
LAST-MODIFIED:20220901T185731Z
UID:50881-1667754000-1667757600@www.marianuniversity.edu
SUMMARY:Mass
DESCRIPTION:
URL:https://www.marianuniversity.edu/event/mass-32/
LOCATION:Dorcas Chapel – Marian University\, 45 S. National Ave.\, Fond du Lac\, WI\, 54935\, United States
CATEGORIES:Chapel/Masses
END:VEVENT
BEGIN:VEVENT
DTSTART;TZID=America/Chicago:20221030T170000
DTEND;TZID=America/Chicago:20221030T180000
DTSTAMP:20260422T201214
CREATED:20220901T185645Z
LAST-MODIFIED:20220901T185645Z
UID:50879-1667149200-1667152800@www.marianuniversity.edu
SUMMARY:Mass
DESCRIPTION:
URL:https://www.marianuniversity.edu/event/mass-31/
LOCATION:Dorcas Chapel – Marian University\, 45 S. National Ave.\, Fond du Lac\, WI\, 54935\, United States
CATEGORIES:Chapel/Masses
END:VEVENT
BEGIN:VEVENT
DTSTART;TZID=America/Chicago:20221023T170000
DTEND;TZID=America/Chicago:20221023T180000
DTSTAMP:20260422T201214
CREATED:20220901T185601Z
LAST-MODIFIED:20220901T185601Z
UID:50877-1666544400-1666548000@www.marianuniversity.edu
SUMMARY:Mass
DESCRIPTION:
URL:https://www.marianuniversity.edu/event/mass-30/
LOCATION:Dorcas Chapel – Marian University\, 45 S. National Ave.\, Fond du Lac\, WI\, 54935\, United States
CATEGORIES:Chapel/Masses
END:VEVENT
BEGIN:VEVENT
DTSTART;TZID=America/Chicago:20221009T170000
DTEND;TZID=America/Chicago:20221009T180000
DTSTAMP:20260422T201214
CREATED:20220901T185457Z
LAST-MODIFIED:20220901T185457Z
UID:50875-1665334800-1665338400@www.marianuniversity.edu
SUMMARY:Mass
DESCRIPTION:
URL:https://www.marianuniversity.edu/event/mass-29/
LOCATION:Dorcas Chapel – Marian University\, 45 S. National Ave.\, Fond du Lac\, WI\, 54935\, United States
CATEGORIES:Chapel/Masses
END:VEVENT
BEGIN:VEVENT
DTSTART;TZID=America/Chicago:20221002T170000
DTEND;TZID=America/Chicago:20221002T180000
DTSTAMP:20260422T201214
CREATED:20220901T185414Z
LAST-MODIFIED:20220901T185414Z
UID:50873-1664730000-1664733600@www.marianuniversity.edu
SUMMARY:Mass
DESCRIPTION:
URL:https://www.marianuniversity.edu/event/mass-28/
LOCATION:Dorcas Chapel – Marian University\, 45 S. National Ave.\, Fond du Lac\, WI\, 54935\, United States
CATEGORIES:Chapel/Masses
END:VEVENT
BEGIN:VEVENT
DTSTART;TZID=America/Chicago:20220925T170000
DTEND;TZID=America/Chicago:20220925T180000
DTSTAMP:20260422T201214
CREATED:20220901T185248Z
LAST-MODIFIED:20220901T185248Z
UID:50871-1664125200-1664128800@www.marianuniversity.edu
SUMMARY:Mass
DESCRIPTION:
URL:https://www.marianuniversity.edu/event/mass-27/
LOCATION:Dorcas Chapel – Marian University\, 45 S. National Ave.\, Fond du Lac\, WI\, 54935\, United States
CATEGORIES:Chapel/Masses
END:VEVENT
BEGIN:VEVENT
DTSTART;TZID=America/Chicago:20220918T170000
DTEND;TZID=America/Chicago:20220918T180000
DTSTAMP:20260422T201214
CREATED:20220901T185203Z
LAST-MODIFIED:20220901T185203Z
UID:50869-1663520400-1663524000@www.marianuniversity.edu
SUMMARY:Mass
DESCRIPTION:
URL:https://www.marianuniversity.edu/event/mass-26/
LOCATION:Dorcas Chapel – Marian University\, 45 S. National Ave.\, Fond du Lac\, WI\, 54935\, United States
CATEGORIES:Chapel/Masses
END:VEVENT
BEGIN:VEVENT
DTSTART;TZID=America/Chicago:20220911T170000
DTEND;TZID=America/Chicago:20220911T180000
DTSTAMP:20260422T201214
CREATED:20220901T185022Z
LAST-MODIFIED:20220901T185022Z
UID:50867-1662915600-1662919200@www.marianuniversity.edu
SUMMARY:Mass
DESCRIPTION:
URL:https://www.marianuniversity.edu/event/mass-25/
LOCATION:Dorcas Chapel – Marian University\, 45 S. National Ave.\, Fond du Lac\, WI\, 54935\, United States
CATEGORIES:Chapel/Masses
END:VEVENT
BEGIN:VEVENT
DTSTART;TZID=America/Chicago:20220904T170000
DTEND;TZID=America/Chicago:20220904T180000
DTSTAMP:20260422T201214
CREATED:20220901T184908Z
LAST-MODIFIED:20220901T184908Z
UID:50864-1662310800-1662314400@www.marianuniversity.edu
SUMMARY:Mass
DESCRIPTION:
URL:https://www.marianuniversity.edu/event/mass-24/
LOCATION:Dorcas Chapel – Marian University\, 45 S. National Ave.\, Fond du Lac\, WI\, 54935\, United States
CATEGORIES:Chapel/Masses
END:VEVENT
BEGIN:VEVENT
DTSTART;TZID=America/Chicago:20220507T103000
DTEND;TZID=America/Chicago:20220507T113000
DTSTAMP:20260422T201214
CREATED:20220103T184720Z
LAST-MODIFIED:20220103T184720Z
UID:47467-1651919400-1651923000@www.marianuniversity.edu
SUMMARY:May Graduation Mass
DESCRIPTION:
URL:https://www.marianuniversity.edu/event/may-graduation-mass/
LOCATION:Dorcas Chapel – Marian University\, 45 S. National Ave.\, Fond du Lac\, WI\, 54935\, United States
CATEGORIES:Chapel/Masses
END:VEVENT
BEGIN:VEVENT
DTSTART;TZID=America/Chicago:20220501T170000
DTEND;TZID=America/Chicago:20220501T180000
DTSTAMP:20260422T201214
CREATED:20220103T161913Z
LAST-MODIFIED:20220103T161913Z
UID:47445-1651424400-1651428000@www.marianuniversity.edu
SUMMARY:Mass
DESCRIPTION:
URL:https://www.marianuniversity.edu/event/mass-23/
LOCATION:Dorcas Chapel – Marian University\, 45 S. National Ave.\, Fond du Lac\, WI\, 54935\, United States
CATEGORIES:Chapel/Masses
END:VEVENT
BEGIN:VEVENT
DTSTART;TZID=America/Chicago:20220424T170000
DTEND;TZID=America/Chicago:20220424T180000
DTSTAMP:20260422T201214
CREATED:20220103T161811Z
LAST-MODIFIED:20220103T161811Z
UID:47443-1650819600-1650823200@www.marianuniversity.edu
SUMMARY:Mass
DESCRIPTION:
URL:https://www.marianuniversity.edu/event/mass-22/
LOCATION:Dorcas Chapel – Marian University\, 45 S. National Ave.\, Fond du Lac\, WI\, 54935\, United States
CATEGORIES:Chapel/Masses
END:VEVENT
BEGIN:VEVENT
DTSTART;TZID=America/Chicago:20220410T170000
DTEND;TZID=America/Chicago:20220410T180000
DTSTAMP:20260422T201214
CREATED:20220103T161716Z
LAST-MODIFIED:20220103T161716Z
UID:47440-1649610000-1649613600@www.marianuniversity.edu
SUMMARY:Mass
DESCRIPTION:
URL:https://www.marianuniversity.edu/event/mass-21/
LOCATION:Dorcas Chapel – Marian University\, 45 S. National Ave.\, Fond du Lac\, WI\, 54935\, United States
CATEGORIES:Chapel/Masses
END:VEVENT
BEGIN:VEVENT
DTSTART;TZID=America/Chicago:20220403T170000
DTEND;TZID=America/Chicago:20220403T180000
DTSTAMP:20260422T201214
CREATED:20220103T161627Z
LAST-MODIFIED:20220103T161627Z
UID:47437-1649005200-1649008800@www.marianuniversity.edu
SUMMARY:Mass
DESCRIPTION:
URL:https://www.marianuniversity.edu/event/mass-20/
LOCATION:Dorcas Chapel – Marian University\, 45 S. National Ave.\, Fond du Lac\, WI\, 54935\, United States
CATEGORIES:Chapel/Masses
END:VEVENT
BEGIN:VEVENT
DTSTART;TZID=America/Chicago:20220327T170000
DTEND;TZID=America/Chicago:20220327T180000
DTSTAMP:20260422T201214
CREATED:20220103T161532Z
LAST-MODIFIED:20220103T161532Z
UID:47435-1648400400-1648404000@www.marianuniversity.edu
SUMMARY:Mass
DESCRIPTION:
URL:https://www.marianuniversity.edu/event/mass-19/
LOCATION:Dorcas Chapel – Marian University\, 45 S. National Ave.\, Fond du Lac\, WI\, 54935\, United States
CATEGORIES:Chapel/Masses
END:VEVENT
BEGIN:VEVENT
DTSTART;TZID=America/Chicago:20220320T170000
DTEND;TZID=America/Chicago:20220320T180000
DTSTAMP:20260422T201214
CREATED:20220103T161400Z
LAST-MODIFIED:20220103T161400Z
UID:47431-1647795600-1647799200@www.marianuniversity.edu
SUMMARY:Mass
DESCRIPTION:Mass
URL:https://www.marianuniversity.edu/event/mass-18/
LOCATION:Dorcas Chapel – Marian University\, 45 S. National Ave.\, Fond du Lac\, WI\, 54935\, United States
CATEGORIES:Chapel/Masses
END:VEVENT
BEGIN:VEVENT
DTSTART;TZID=America/Chicago:20220302T120000
DTEND;TZID=America/Chicago:20220302T130000
DTSTAMP:20260422T201214
CREATED:20220103T161255Z
LAST-MODIFIED:20220103T161255Z
UID:47428-1646222400-1646226000@www.marianuniversity.edu
SUMMARY:Mass - Ash Wednesday
DESCRIPTION:
URL:https://www.marianuniversity.edu/event/mass-ash-wednesday/
LOCATION:Dorcas Chapel – Marian University\, 45 S. National Ave.\, Fond du Lac\, WI\, 54935\, United States
CATEGORIES:Chapel/Masses
END:VEVENT
END:VCALENDAR