BEGIN:VCALENDAR
VERSION:2.0
PRODID:-//Marian University - ECPv6.15.20//NONSGML v1.0//EN
CALSCALE:GREGORIAN
METHOD:PUBLISH
X-WR-CALNAME:Marian University
X-ORIGINAL-URL:https://www.marianuniversity.edu
X-WR-CALDESC:Events for Marian University
REFRESH-INTERVAL;VALUE=DURATION:PT1H
X-Robots-Tag:noindex
X-PUBLISHED-TTL:PT1H
BEGIN:VTIMEZONE
TZID:America/Chicago
BEGIN:DAYLIGHT
TZOFFSETFROM:-0600
TZOFFSETTO:-0500
TZNAME:CDT
DTSTART:20210314T080000
END:DAYLIGHT
BEGIN:STANDARD
TZOFFSETFROM:-0500
TZOFFSETTO:-0600
TZNAME:CST
DTSTART:20211107T070000
END:STANDARD
BEGIN:DAYLIGHT
TZOFFSETFROM:-0600
TZOFFSETTO:-0500
TZNAME:CDT
DTSTART:20220313T080000
END:DAYLIGHT
BEGIN:STANDARD
TZOFFSETFROM:-0500
TZOFFSETTO:-0600
TZNAME:CST
DTSTART:20221106T070000
END:STANDARD
BEGIN:DAYLIGHT
TZOFFSETFROM:-0600
TZOFFSETTO:-0500
TZNAME:CDT
DTSTART:20230312T080000
END:DAYLIGHT
BEGIN:STANDARD
TZOFFSETFROM:-0500
TZOFFSETTO:-0600
TZNAME:CST
DTSTART:20231105T070000
END:STANDARD
END:VTIMEZONE
BEGIN:VEVENT
DTSTART;TZID=America/Chicago:20220419T183000
DTEND;TZID=America/Chicago:20220419T203000
DTSTAMP:20260422T200109
CREATED:20211222T232820Z
LAST-MODIFIED:20211222T232820Z
UID:47317-1650393000-1650400200@www.marianuniversity.edu
SUMMARY:Women's Lacrosse vs. Edgewood College
DESCRIPTION:
URL:https://www.marianuniversity.edu/event/womens-lacrosse-vs-edgewood-college/
LOCATION:Smith Fields Complex – Marian University\, 45 S. National Ave.\, Fond du Lac\, WI\, 54935\, United States
CATEGORIES:Athletics
END:VEVENT
BEGIN:VEVENT
DTSTART;TZID=America/Chicago:20220418T160000
DTEND;TZID=America/Chicago:20220418T180000
DTSTAMP:20260422T200109
CREATED:20211222T232726Z
LAST-MODIFIED:20211222T232726Z
UID:47315-1650297600-1650304800@www.marianuniversity.edu
SUMMARY:Baseball vs. Concordia WI
DESCRIPTION:
URL:https://www.marianuniversity.edu/event/baseball-vs-concordia-wi-2/
LOCATION:Herr-Baker Field – Marian University\, 45 S. National Ave.\, Fond du Lac\, WI\, 54935\, United States
CATEGORIES:Athletics
END:VEVENT
BEGIN:VEVENT
DTSTART;TZID=America/Chicago:20220418T130000
DTEND;TZID=America/Chicago:20220418T150000
DTSTAMP:20260422T200109
CREATED:20211222T232636Z
LAST-MODIFIED:20211222T232636Z
UID:47313-1650286800-1650294000@www.marianuniversity.edu
SUMMARY:Baseball vs. Concordia WI
DESCRIPTION:
URL:https://www.marianuniversity.edu/event/baseball-vs-concordia-wi/
LOCATION:Herr-Baker Field – Marian University\, 45 S. National Ave.\, Fond du Lac\, WI\, 54935\, United States
CATEGORIES:Athletics
END:VEVENT
BEGIN:VEVENT
DTSTART;TZID=America/Chicago:20220416T140000
DTEND;TZID=America/Chicago:20220416T160000
DTSTAMP:20260422T200109
CREATED:20211222T232540Z
LAST-MODIFIED:20211222T232540Z
UID:47311-1650117600-1650124800@www.marianuniversity.edu
SUMMARY:Softball vs. Alverno College
DESCRIPTION:
URL:https://www.marianuniversity.edu/event/softball-vs-alverno-college-2/
LOCATION:Smith Fields Complex – Marian University\, 45 S. National Ave.\, Fond du Lac\, WI\, 54935\, United States
CATEGORIES:Athletics
END:VEVENT
BEGIN:VEVENT
DTSTART;TZID=America/Chicago:20220416T130000
DTEND;TZID=America/Chicago:20220416T143000
DTSTAMP:20260422T200109
CREATED:20211222T232426Z
LAST-MODIFIED:20211222T232426Z
UID:47309-1650114000-1650119400@www.marianuniversity.edu
SUMMARY:Men's Lacrosse vs. Illinois Tech
DESCRIPTION:
URL:https://www.marianuniversity.edu/event/mens-lacrosse-vs-illinois-tech/
LOCATION:Smith Fields Complex – Marian University\, 45 S. National Ave.\, Fond du Lac\, WI\, 54935\, United States
CATEGORIES:Athletics
END:VEVENT
BEGIN:VEVENT
DTSTART;TZID=America/Chicago:20220416T120000
DTEND;TZID=America/Chicago:20220416T140000
DTSTAMP:20260422T200109
CREATED:20211222T232324Z
LAST-MODIFIED:20211222T232324Z
UID:47307-1650110400-1650117600@www.marianuniversity.edu
SUMMARY:Softball vs. Alverno College
DESCRIPTION:
URL:https://www.marianuniversity.edu/event/softball-vs-alverno-college/
LOCATION:Smith Fields Complex – Marian University\, 45 S. National Ave.\, Fond du Lac\, WI\, 54935\, United States
CATEGORIES:Athletics
END:VEVENT
BEGIN:VEVENT
DTSTART;TZID=America/Chicago:20220416T100000
DTEND;TZID=America/Chicago:20220416T113000
DTSTAMP:20260422T200109
CREATED:20211222T232229Z
LAST-MODIFIED:20211222T232229Z
UID:47305-1650103200-1650108600@www.marianuniversity.edu
SUMMARY:Women's Lacrosse vs. Illinois Tech
DESCRIPTION:
URL:https://www.marianuniversity.edu/event/womens-lacrosse-vs-illinois-tech/
LOCATION:Smith Fields Complex – Marian University\, 45 S. National Ave.\, Fond du Lac\, WI\, 54935\, United States
CATEGORIES:Athletics
END:VEVENT
BEGIN:VEVENT
DTSTART;TZID=America/Chicago:20220413T160000
DTEND;TZID=America/Chicago:20220413T173000
DTSTAMP:20260422T200109
CREATED:20211222T232130Z
LAST-MODIFIED:20211222T232130Z
UID:47303-1649865600-1649871000@www.marianuniversity.edu
SUMMARY:Men's Lacrosse vs. Concordia WI
DESCRIPTION:
URL:https://www.marianuniversity.edu/event/mens-lacrosse-vs-concordia-wi/
LOCATION:Smith Fields Complex – Marian University\, 45 S. National Ave.\, Fond du Lac\, WI\, 54935\, United States
CATEGORIES:Athletics
END:VEVENT
BEGIN:VEVENT
DTSTART;TZID=America/Chicago:20220410T140000
DTEND;TZID=America/Chicago:20220410T160000
DTSTAMP:20260422T200109
CREATED:20211222T232031Z
LAST-MODIFIED:20211222T232031Z
UID:47301-1649599200-1649606400@www.marianuniversity.edu
SUMMARY:Softball vs. Aurora
DESCRIPTION:
URL:https://www.marianuniversity.edu/event/softball-vs-aurora-2/
LOCATION:Smith Fields Complex – Marian University\, 45 S. National Ave.\, Fond du Lac\, WI\, 54935\, United States
CATEGORIES:Athletics
END:VEVENT
BEGIN:VEVENT
DTSTART;TZID=America/Chicago:20220410T120000
DTEND;TZID=America/Chicago:20220410T140000
DTSTAMP:20260422T200109
CREATED:20211222T231937Z
LAST-MODIFIED:20211222T231937Z
UID:47299-1649592000-1649599200@www.marianuniversity.edu
SUMMARY:Softball vs. Aurora
DESCRIPTION:
URL:https://www.marianuniversity.edu/event/softball-vs-aurora/
LOCATION:Smith Fields Complex – Marian University\, 45 S. National Ave.\, Fond du Lac\, WI\, 54935\, United States
CATEGORIES:Athletics
END:VEVENT
BEGIN:VEVENT
DTSTART;TZID=America/Chicago:20220409T150000
DTEND;TZID=America/Chicago:20220409T170000
DTSTAMP:20260422T200109
CREATED:20211222T231837Z
LAST-MODIFIED:20211222T231837Z
UID:47297-1649516400-1649523600@www.marianuniversity.edu
SUMMARY:Baseball vs. Rockford
DESCRIPTION:
URL:https://www.marianuniversity.edu/event/baseball-vs-rockford-2/
LOCATION:Herr-Baker Field – Marian University\, 45 S. National Ave.\, Fond du Lac\, WI\, 54935\, United States
CATEGORIES:Athletics
END:VEVENT
BEGIN:VEVENT
DTSTART;TZID=America/Chicago:20220409T120000
DTEND;TZID=America/Chicago:20220409T140000
DTSTAMP:20260422T200109
CREATED:20211222T231746Z
LAST-MODIFIED:20211222T231746Z
UID:47295-1649505600-1649512800@www.marianuniversity.edu
SUMMARY:Baseball vs. Rockford
DESCRIPTION:
URL:https://www.marianuniversity.edu/event/baseball-vs-rockford/
LOCATION:Herr-Baker Field – Marian University\, 45 S. National Ave.\, Fond du Lac\, WI\, 54935\, United States
CATEGORIES:Athletics
END:VEVENT
BEGIN:VEVENT
DTSTART;TZID=America/Chicago:20220403T140000
DTEND;TZID=America/Chicago:20220403T160000
DTSTAMP:20260422T200109
CREATED:20211222T231638Z
LAST-MODIFIED:20211222T231638Z
UID:47293-1648994400-1649001600@www.marianuniversity.edu
SUMMARY:Softball vs. Benedictine
DESCRIPTION:
URL:https://www.marianuniversity.edu/event/softball-vs-benedictine-2/
LOCATION:Smith Fields Complex – Marian University\, 45 S. National Ave.\, Fond du Lac\, WI\, 54935\, United States
CATEGORIES:Athletics
END:VEVENT
BEGIN:VEVENT
DTSTART;TZID=America/Chicago:20220403T120000
DTEND;TZID=America/Chicago:20220403T140000
DTSTAMP:20260422T200109
CREATED:20211222T231545Z
LAST-MODIFIED:20211222T231545Z
UID:47291-1648987200-1648994400@www.marianuniversity.edu
SUMMARY:Softball vs. Benedictine
DESCRIPTION:
URL:https://www.marianuniversity.edu/event/softball-vs-benedictine/
LOCATION:Smith Fields Complex – Marian University\, 45 S. National Ave.\, Fond du Lac\, WI\, 54935\, United States
CATEGORIES:Athletics
END:VEVENT
BEGIN:VEVENT
DTSTART;TZID=America/Chicago:20220402T190000
DTEND;TZID=America/Chicago:20220402T203000
DTSTAMP:20260422T200109
CREATED:20211222T231445Z
LAST-MODIFIED:20211222T231445Z
UID:47289-1648926000-1648931400@www.marianuniversity.edu
SUMMARY:Men's Volleyball vs. Illinois Tech
DESCRIPTION:
URL:https://www.marianuniversity.edu/event/mens-volleyball-vs-illinois-tech/
LOCATION:Howard Sadoff Gymnasium – Marian University\, 45 S. National Ave.\, Fond du Lac\, WI\, 54935\, United States
CATEGORIES:Athletics
END:VEVENT
BEGIN:VEVENT
DTSTART;TZID=America/Chicago:20220402T150000
DTEND;TZID=America/Chicago:20220402T163000
DTSTAMP:20260422T200109
CREATED:20211222T231346Z
LAST-MODIFIED:20211222T231346Z
UID:47287-1648911600-1648917000@www.marianuniversity.edu
SUMMARY:Baseball vs. Dominican
DESCRIPTION:
URL:https://www.marianuniversity.edu/event/baseball-vs-dominican-2/
LOCATION:Herr-Baker Field – Marian University\, 45 S. National Ave.\, Fond du Lac\, WI\, 54935\, United States
CATEGORIES:Athletics
END:VEVENT
BEGIN:VEVENT
DTSTART;TZID=America/Chicago:20220402T130000
DTEND;TZID=America/Chicago:20220402T143000
DTSTAMP:20260422T200109
CREATED:20211222T231248Z
LAST-MODIFIED:20211222T231248Z
UID:47285-1648904400-1648909800@www.marianuniversity.edu
SUMMARY:Men's Lacrosse vs. Concordia Chicago
DESCRIPTION:
URL:https://www.marianuniversity.edu/event/mens-lacrosse-vs-concordia-chicago/
LOCATION:Smith Fields Complex – Marian University\, 45 S. National Ave.\, Fond du Lac\, WI\, 54935\, United States
CATEGORIES:Athletics
END:VEVENT
BEGIN:VEVENT
DTSTART;TZID=America/Chicago:20220402T120000
DTEND;TZID=America/Chicago:20220402T140000
DTSTAMP:20260422T200109
CREATED:20211222T231111Z
LAST-MODIFIED:20211222T231111Z
UID:47283-1648900800-1648908000@www.marianuniversity.edu
SUMMARY:Baseball vs. Dominican
DESCRIPTION:
URL:https://www.marianuniversity.edu/event/baseball-vs-dominican/
LOCATION:Herr-Baker Field – Marian University\, 45 S. National Ave.\, Fond du Lac\, WI\, 54935\, United States
CATEGORIES:Athletics
END:VEVENT
BEGIN:VEVENT
DTSTART;TZID=America/Chicago:20220401T190000
DTEND;TZID=America/Chicago:20220401T203000
DTSTAMP:20260422T200109
CREATED:20211222T231019Z
LAST-MODIFIED:20211222T231019Z
UID:47281-1648839600-1648845000@www.marianuniversity.edu
SUMMARY:Men's Volleyball vs. Benedictine
DESCRIPTION:
URL:https://www.marianuniversity.edu/event/mens-volleyball-vs-benedictine/
LOCATION:Howard Sadoff Gymnasium – Marian University\, 45 S. National Ave.\, Fond du Lac\, WI\, 54935\, United States
CATEGORIES:Athletics
END:VEVENT
BEGIN:VEVENT
DTSTART;TZID=America/Chicago:20220331T170000
DTEND;TZID=America/Chicago:20220331T190000
DTSTAMP:20260422T200109
CREATED:20211222T230917Z
LAST-MODIFIED:20211222T230917Z
UID:47279-1648746000-1648753200@www.marianuniversity.edu
SUMMARY:Softball vs. Ripon College
DESCRIPTION:
URL:https://www.marianuniversity.edu/event/softball-vs-ripon-college-2/
LOCATION:Smith Fields Complex – Marian University\, 45 S. National Ave.\, Fond du Lac\, WI\, 54935\, United States
CATEGORIES:Athletics
END:VEVENT
BEGIN:VEVENT
DTSTART;TZID=America/Chicago:20220331T150000
DTEND;TZID=America/Chicago:20220331T163000
DTSTAMP:20260422T200109
CREATED:20211222T230814Z
LAST-MODIFIED:20211222T230814Z
UID:47277-1648738800-1648744200@www.marianuniversity.edu
SUMMARY:Softball vs. Ripon College
DESCRIPTION:
URL:https://www.marianuniversity.edu/event/softball-vs-ripon-college/
LOCATION:Smith Fields Complex – Marian University\, 45 S. National Ave.\, Fond du Lac\, WI\, 54935\, United States
CATEGORIES:Athletics
END:VEVENT
BEGIN:VEVENT
DTSTART;TZID=America/Chicago:20220329T170000
DTEND;TZID=America/Chicago:20220329T190000
DTSTAMP:20260422T200109
CREATED:20211222T230718Z
LAST-MODIFIED:20211222T230718Z
UID:47275-1648573200-1648580400@www.marianuniversity.edu
SUMMARY:Baseball vs. St. Scholastica
DESCRIPTION:
URL:https://www.marianuniversity.edu/event/baseball-vs-st-scholastica-2/
LOCATION:Herr-Baker Field – Marian University\, 45 S. National Ave.\, Fond du Lac\, WI\, 54935\, United States
CATEGORIES:Athletics
END:VEVENT
BEGIN:VEVENT
DTSTART;TZID=America/Chicago:20220329T130000
DTEND;TZID=America/Chicago:20220329T143000
DTSTAMP:20260422T200109
CREATED:20211222T230622Z
LAST-MODIFIED:20211222T230622Z
UID:47273-1648558800-1648564200@www.marianuniversity.edu
SUMMARY:Baseball vs. St. Scholastica
DESCRIPTION:
URL:https://www.marianuniversity.edu/event/baseball-vs-st-scholastica/
LOCATION:Herr-Baker Field – Marian University\, 45 S. National Ave.\, Fond du Lac\, WI\, 54935\, United States
CATEGORIES:Athletics
END:VEVENT
BEGIN:VEVENT
DTSTART;TZID=America/Chicago:20220326T170000
DTEND;TZID=America/Chicago:20220326T183000
DTSTAMP:20260422T200109
CREATED:20211222T230525Z
LAST-MODIFIED:20211222T230525Z
UID:47271-1648314000-1648319400@www.marianuniversity.edu
SUMMARY:Men's Volleyball vs. Edgewood College
DESCRIPTION:
URL:https://www.marianuniversity.edu/event/mens-volleyball-vs-edgewood-college/
LOCATION:Howard Sadoff Gymnasium – Marian University\, 45 S. National Ave.\, Fond du Lac\, WI\, 54935\, United States
CATEGORIES:Athletics
END:VEVENT
BEGIN:VEVENT
DTSTART;TZID=America/Chicago:20220325T170000
DTEND;TZID=America/Chicago:20220325T183000
DTSTAMP:20260422T200109
CREATED:20211222T230255Z
LAST-MODIFIED:20211222T230255Z
UID:47269-1648227600-1648233000@www.marianuniversity.edu
SUMMARY:Softball vs. Concordia Chicago
DESCRIPTION:
URL:https://www.marianuniversity.edu/event/softball-vs-concordia-chicago-2/
LOCATION:Smith Fields Complex – Marian University\, 45 S. National Ave.\, Fond du Lac\, WI\, 54935\, United States
CATEGORIES:Athletics
END:VEVENT
BEGIN:VEVENT
DTSTART;TZID=America/Chicago:20220325T150000
DTEND;TZID=America/Chicago:20220325T163000
DTSTAMP:20260422T200109
CREATED:20211222T230203Z
LAST-MODIFIED:20211222T230203Z
UID:47267-1648220400-1648225800@www.marianuniversity.edu
SUMMARY:Softball vs. Concordia Chicago
DESCRIPTION:So
URL:https://www.marianuniversity.edu/event/softball-vs-concordia-chicago/
LOCATION:Smith Fields Complex – Marian University\, 45 S. National Ave.\, Fond du Lac\, WI\, 54935\, United States
CATEGORIES:Athletics
END:VEVENT
BEGIN:VEVENT
DTSTART;TZID=America/Chicago:20220324T170000
DTEND;TZID=America/Chicago:20220324T183000
DTSTAMP:20260422T200109
CREATED:20211222T230101Z
LAST-MODIFIED:20211222T230101Z
UID:47265-1648141200-1648146600@www.marianuniversity.edu
SUMMARY:Women's Lacrosse vs Augustana (IL)
DESCRIPTION:
URL:https://www.marianuniversity.edu/event/womens-lacrosse-vs-augustana-il/
LOCATION:Smith Fields Complex – Marian University\, 45 S. National Ave.\, Fond du Lac\, WI\, 54935\, United States
CATEGORIES:Athletics
END:VEVENT
BEGIN:VEVENT
DTSTART;TZID=America/Chicago:20220320T150000
DTEND;TZID=America/Chicago:20220320T170000
DTSTAMP:20260422T200109
CREATED:20211222T225958Z
LAST-MODIFIED:20211222T225958Z
UID:47263-1647788400-1647795600@www.marianuniversity.edu
SUMMARY:Baseball vs. Dubuque
DESCRIPTION:
URL:https://www.marianuniversity.edu/event/baseball-vs-dubuque-2/
LOCATION:Herr-Baker Field – Marian University\, 45 S. National Ave.\, Fond du Lac\, WI\, 54935\, United States
CATEGORIES:Athletics
END:VEVENT
BEGIN:VEVENT
DTSTART;TZID=America/Chicago:20220320T120000
DTEND;TZID=America/Chicago:20220320T140000
DTSTAMP:20260422T200109
CREATED:20211222T225906Z
LAST-MODIFIED:20211222T225906Z
UID:47261-1647777600-1647784800@www.marianuniversity.edu
SUMMARY:Baseball vs. Dubuque
DESCRIPTION:
URL:https://www.marianuniversity.edu/event/baseball-vs-dubuque/
LOCATION:Herr-Baker Field – Marian University\, 45 S. National Ave.\, Fond du Lac\, WI\, 54935\, United States
CATEGORIES:Athletics
END:VEVENT
BEGIN:VEVENT
DTSTART;TZID=America/Chicago:20220309T190000
DTEND;TZID=America/Chicago:20220309T203000
DTSTAMP:20260422T200109
CREATED:20211222T225803Z
LAST-MODIFIED:20211222T225803Z
UID:47259-1646852400-1646857800@www.marianuniversity.edu
SUMMARY:Men's Volleyball vs. MSOE
DESCRIPTION:
URL:https://www.marianuniversity.edu/event/mens-volleyball-vs-msoe/
LOCATION:Howard Sadoff Gymnasium – Marian University\, 45 S. National Ave.\, Fond du Lac\, WI\, 54935\, United States
CATEGORIES:Athletics
END:VEVENT
END:VCALENDAR