BEGIN:VCALENDAR
VERSION:2.0
PRODID:-//Marian University - ECPv6.15.20//NONSGML v1.0//EN
CALSCALE:GREGORIAN
METHOD:PUBLISH
X-ORIGINAL-URL:https://www.marianuniversity.edu
X-WR-CALDESC:Events for Marian University
REFRESH-INTERVAL;VALUE=DURATION:PT1H
X-Robots-Tag:noindex
X-PUBLISHED-TTL:PT1H
BEGIN:VTIMEZONE
TZID:America/Chicago
BEGIN:DAYLIGHT
TZOFFSETFROM:-0600
TZOFFSETTO:-0500
TZNAME:CDT
DTSTART:20210314T080000
END:DAYLIGHT
BEGIN:STANDARD
TZOFFSETFROM:-0500
TZOFFSETTO:-0600
TZNAME:CST
DTSTART:20211107T070000
END:STANDARD
BEGIN:DAYLIGHT
TZOFFSETFROM:-0600
TZOFFSETTO:-0500
TZNAME:CDT
DTSTART:20220313T080000
END:DAYLIGHT
BEGIN:STANDARD
TZOFFSETFROM:-0500
TZOFFSETTO:-0600
TZNAME:CST
DTSTART:20221106T070000
END:STANDARD
BEGIN:DAYLIGHT
TZOFFSETFROM:-0600
TZOFFSETTO:-0500
TZNAME:CDT
DTSTART:20230312T080000
END:DAYLIGHT
BEGIN:STANDARD
TZOFFSETFROM:-0500
TZOFFSETTO:-0600
TZNAME:CST
DTSTART:20231105T070000
END:STANDARD
BEGIN:DAYLIGHT
TZOFFSETFROM:-0600
TZOFFSETTO:-0500
TZNAME:CDT
DTSTART:20240310T080000
END:DAYLIGHT
BEGIN:STANDARD
TZOFFSETFROM:-0500
TZOFFSETTO:-0600
TZNAME:CST
DTSTART:20241103T070000
END:STANDARD
BEGIN:DAYLIGHT
TZOFFSETFROM:-0600
TZOFFSETTO:-0500
TZNAME:CDT
DTSTART:20250309T080000
END:DAYLIGHT
BEGIN:STANDARD
TZOFFSETFROM:-0500
TZOFFSETTO:-0600
TZNAME:CST
DTSTART:20251102T070000
END:STANDARD
BEGIN:DAYLIGHT
TZOFFSETFROM:-0600
TZOFFSETTO:-0500
TZNAME:CDT
DTSTART:20260308T080000
END:DAYLIGHT
BEGIN:STANDARD
TZOFFSETFROM:-0500
TZOFFSETTO:-0600
TZNAME:CST
DTSTART:20261101T070000
END:STANDARD
END:VTIMEZONE
BEGIN:VEVENT
DTSTART;TZID=America/Chicago:20250729T183000
DTEND;TZID=America/Chicago:20250729T220000
DTSTAMP:20260422T194028
CREATED:20250702T175507Z
LAST-MODIFIED:20250702T175507Z
UID:989960-1753813800-1753826400@www.marianuniversity.edu
SUMMARY:Alumni Brewers Game (Milwaukee)
DESCRIPTION:
URL:https://www.marianuniversity.edu/event/alumni-brewers-game-milwaukee/
LOCATION:American Family Field\, 1 Brewers Way\, Milwaukee\, WI\, 53214\, United States
CATEGORIES:Alumni
END:VEVENT
BEGIN:VEVENT
DTSTART;TZID=America/Chicago:20250623T100000
DTEND;TZID=America/Chicago:20250623T190000
DTSTAMP:20260422T194028
CREATED:20250424T210031Z
LAST-MODIFIED:20250424T210031Z
UID:989061-1750672800-1750705200@www.marianuniversity.edu
SUMMARY:Alumni Golf Outing
DESCRIPTION:
URL:https://www.marianuniversity.edu/event/alumni-golf-outing/
LOCATION:South Hills Golf & Country Club\, 1175 Fond du Lac Ave\, Fond du Lac\, WI\, 54935\, United States
CATEGORIES:Alumni
END:VEVENT
BEGIN:VEVENT
DTSTART;VALUE=DATE:20230616
DTEND;VALUE=DATE:20230617
DTSTAMP:20260422T194028
CREATED:20221116T154658Z
LAST-MODIFIED:20221116T154658Z
UID:51842-1686873600-1686959999@www.marianuniversity.edu
SUMMARY:Alumni & Friends Annual Golf Outing
DESCRIPTION:
URL:https://www.marianuniversity.edu/event/alumni-friends-annual-golf-outing/
LOCATION:Whispering Springs Golf Course
CATEGORIES:Alumni
END:VEVENT
BEGIN:VEVENT
DTSTART;VALUE=DATE:20220617
DTEND;VALUE=DATE:20220618
DTSTAMP:20260422T194028
CREATED:20220516T202527Z
LAST-MODIFIED:20220516T202527Z
UID:49770-1655424000-1655510399@www.marianuniversity.edu
SUMMARY:2022 Alumni & Friends Golf Outing
DESCRIPTION:
URL:https://www.marianuniversity.edu/event/2022-alumni-friends-golf-outing/
LOCATION:Whispering Springs Golf Course
CATEGORIES:Alumni
END:VEVENT
BEGIN:VEVENT
DTSTART;TZID=America/Chicago:20220122T190000
DTEND;TZID=America/Chicago:20220122T213000
DTSTAMP:20260422T194028
CREATED:20220113T151031Z
LAST-MODIFIED:20220113T151132Z
UID:47709-1642878000-1642887000@www.marianuniversity.edu
SUMMARY:Snowcoming - Alumni Social
DESCRIPTION:
URL:https://www.marianuniversity.edu/event/alumni-social/
LOCATION:Top Shelf\, 90 S Main Street\, Fond du Lac\, WI\, 54935
CATEGORIES:Alumni
END:VEVENT
BEGIN:VEVENT
DTSTART;TZID=America/Chicago:20220122T140000
DTEND;TZID=America/Chicago:20220122T160000
DTSTAMP:20260422T194028
CREATED:20220112T210424Z
LAST-MODIFIED:20220112T210515Z
UID:47699-1642860000-1642867200@www.marianuniversity.edu
SUMMARY:Snowcoming - Photo Art Project
DESCRIPTION:
URL:https://www.marianuniversity.edu/event/snowcoming-photo-art-project/
LOCATION:Todd Wehr Alumni Center/Common Grounds – Marian University\, 45 S. National Ave.\, Fond du Lac\, WI\, 54935\, United States
CATEGORIES:Alumni,Campus Event
END:VEVENT
BEGIN:VEVENT
DTSTART;TZID=America/Chicago:20220122T130000
DTEND;TZID=America/Chicago:20220122T140000
DTSTAMP:20260422T194028
CREATED:20210122T190002Z
LAST-MODIFIED:20220112T201654Z
UID:47155-1642856400-1642860000@www.marianuniversity.edu
SUMMARY:SnowComing - Snowperson Competition
DESCRIPTION:
URL:https://www.marianuniversity.edu/event/snowcoming-snowperson-competition/
LOCATION:Marian University\, 45 S National Ave.\, Fond du Lac\, WI\, 54935\, United States
CATEGORIES:Alumni,Campus Event
END:VEVENT
BEGIN:VEVENT
DTSTART;TZID=America/Chicago:20220122T120000
DTEND;TZID=America/Chicago:20220122T160000
DTSTAMP:20260422T194028
CREATED:20220112T210304Z
LAST-MODIFIED:20220112T210304Z
UID:47697-1642852800-1642867200@www.marianuniversity.edu
SUMMARY:Snowcoming - SnowZone Activities
DESCRIPTION:
URL:https://www.marianuniversity.edu/event/snowcoming-snowzone-activities/
LOCATION:Marian University Quad\, 45 S. National Ave.\, Fond du Lac\, WI\, 54935\, United States
CATEGORIES:Alumni,Campus Event
END:VEVENT
BEGIN:VEVENT
DTSTART;TZID=America/Chicago:20220122T120000
DTEND;TZID=America/Chicago:20220122T160000
DTSTAMP:20260422T194028
CREATED:20220112T205900Z
LAST-MODIFIED:20220112T210557Z
UID:47695-1642852800-1642867200@www.marianuniversity.edu
SUMMARY:Snowcoming - Ice Sculpture Demonstration
DESCRIPTION:
URL:https://www.marianuniversity.edu/event/snowcoming-ice-sculpture-demonstration/
LOCATION:Marian University Quad\, 45 S. National Ave.\, Fond du Lac\, WI\, 54935\, United States
CATEGORIES:Alumni,Campus Event
END:VEVENT
BEGIN:VEVENT
DTSTART;TZID=America/Chicago:20220122T113000
DTEND;TZID=America/Chicago:20220122T123000
DTSTAMP:20260422T194028
CREATED:20211222T215219Z
LAST-MODIFIED:20211222T215219Z
UID:47151-1642851000-1642854600@www.marianuniversity.edu
SUMMARY:SnowComing - Men's Basketball Alumni Game
DESCRIPTION:SnowCOm
URL:https://www.marianuniversity.edu/event/snowcoming-mens-basketball-alumni-game/
LOCATION:WI
CATEGORIES:Alumni,Athletics
END:VEVENT
BEGIN:VEVENT
DTSTART;TZID=America/Chicago:20220122T103000
DTEND;TZID=America/Chicago:20220122T113000
DTSTAMP:20260422T194028
CREATED:20211222T215113Z
LAST-MODIFIED:20211222T215113Z
UID:47149-1642847400-1642851000@www.marianuniversity.edu
SUMMARY:SnowComing - Women's Basketball Alumni Game
DESCRIPTION:
URL:https://www.marianuniversity.edu/event/snowcoming-womens-basketball-alumni-game/
LOCATION:Howard Sadoff Gymnasium – Marian University\, 45 S. National Ave.\, Fond du Lac\, WI\, 54935\, United States
CATEGORIES:Alumni,Athletics
END:VEVENT
END:VCALENDAR