BEGIN:VCALENDAR
VERSION:2.0
PRODID:-//Marian University - ECPv6.15.20//NONSGML v1.0//EN
CALSCALE:GREGORIAN
METHOD:PUBLISH
X-WR-CALNAME:Marian University
X-ORIGINAL-URL:https://www.marianuniversity.edu
X-WR-CALDESC:Events for Marian University
REFRESH-INTERVAL;VALUE=DURATION:PT1H
X-Robots-Tag:noindex
X-PUBLISHED-TTL:PT1H
BEGIN:VTIMEZONE
TZID:America/Chicago
BEGIN:DAYLIGHT
TZOFFSETFROM:-0600
TZOFFSETTO:-0500
TZNAME:CDT
DTSTART:20240310T080000
END:DAYLIGHT
BEGIN:STANDARD
TZOFFSETFROM:-0500
TZOFFSETTO:-0600
TZNAME:CST
DTSTART:20241103T070000
END:STANDARD
BEGIN:DAYLIGHT
TZOFFSETFROM:-0600
TZOFFSETTO:-0500
TZNAME:CDT
DTSTART:20250309T080000
END:DAYLIGHT
BEGIN:STANDARD
TZOFFSETFROM:-0500
TZOFFSETTO:-0600
TZNAME:CST
DTSTART:20251102T070000
END:STANDARD
BEGIN:DAYLIGHT
TZOFFSETFROM:-0600
TZOFFSETTO:-0500
TZNAME:CDT
DTSTART:20260308T080000
END:DAYLIGHT
BEGIN:STANDARD
TZOFFSETFROM:-0500
TZOFFSETTO:-0600
TZNAME:CST
DTSTART:20261101T070000
END:STANDARD
END:VTIMEZONE
BEGIN:VEVENT
DTSTART;TZID=America/Chicago:20250325T180000
DTEND;TZID=America/Chicago:20250326T150000
DTSTAMP:20260423T095930
CREATED:20250123T154429Z
LAST-MODIFIED:20250318T201427Z
UID:988203-1742925600-1743001200@www.marianuniversity.edu
SUMMARY:Marian University 18th Annual Academic Symposium
DESCRIPTION:Marian University is proud to host the 18th Academic Symposium which explores “The Universal Impact of Technology and Communication: How Does It Influence Our Lives and the Lives of Our Leaders?” The symposium will take place on Tuesday evening\, March 25\, and Wednesday\, March 26\, 2025\, on the Marian University campus. \nHave you ever wondered\, “What role should artificial intelligence play in effective communication?” or “How do we balance emotional intelligence and digital literacy?” This year’s theme will address pressing questions about the moral\, social\, and economic implications of technological advancements\, including the use of artificial intelligence\, digital literacy\, and the balance between privacy and freedom in an interconnected world. The event will also explore how communication technologies impact leadership\, diversity\, equity\, inclusion\, and emotional intelligence. \nStudents\, faculty\, staff\, emeriti\, and members of the greater community are all invited to engage in meaningful dialogue about the ways technology and communication shape our personal lives\, workplaces\, and societal structures. The symposium will feature a mix of presentations\, panel discussions\, and interactive sessions.” \nFor more details\, click here.
URL:https://www.marianuniversity.edu/event/marian-university-18th-annual-academic-symposium/
LOCATION:Marian University\, 45 S National Ave.\, Fond du Lac\, WI\, 54935\, United States
CATEGORIES:Campus Event,Community
END:VEVENT
END:VCALENDAR