BEGIN:VCALENDAR
VERSION:2.0
PRODID:-//Marian University - ECPv6.15.20//NONSGML v1.0//EN
CALSCALE:GREGORIAN
METHOD:PUBLISH
X-ORIGINAL-URL:https://www.marianuniversity.edu
X-WR-CALDESC:Events for Marian University
REFRESH-INTERVAL;VALUE=DURATION:PT1H
X-Robots-Tag:noindex
X-PUBLISHED-TTL:PT1H
BEGIN:VTIMEZONE
TZID:America/Chicago
BEGIN:DAYLIGHT
TZOFFSETFROM:-0600
TZOFFSETTO:-0500
TZNAME:CDT
DTSTART:20240310T080000
END:DAYLIGHT
BEGIN:STANDARD
TZOFFSETFROM:-0500
TZOFFSETTO:-0600
TZNAME:CST
DTSTART:20241103T070000
END:STANDARD
BEGIN:DAYLIGHT
TZOFFSETFROM:-0600
TZOFFSETTO:-0500
TZNAME:CDT
DTSTART:20250309T080000
END:DAYLIGHT
BEGIN:STANDARD
TZOFFSETFROM:-0500
TZOFFSETTO:-0600
TZNAME:CST
DTSTART:20251102T070000
END:STANDARD
BEGIN:DAYLIGHT
TZOFFSETFROM:-0600
TZOFFSETTO:-0500
TZNAME:CDT
DTSTART:20260308T080000
END:DAYLIGHT
BEGIN:STANDARD
TZOFFSETFROM:-0500
TZOFFSETTO:-0600
TZNAME:CST
DTSTART:20261101T070000
END:STANDARD
END:VTIMEZONE
BEGIN:VEVENT
DTSTART;TZID=America/Chicago:20250313T090000
DTEND;TZID=America/Chicago:20250313T120000
DTSTAMP:20260423T095809
CREATED:20250207T141507Z
LAST-MODIFIED:20250207T141507Z
UID:988346-1741856400-1741867200@www.marianuniversity.edu
SUMMARY:Women In Construction 2025
DESCRIPTION:We’re thrilled to invite high school students\, technical college students and their educators to an inspiring\, hands-on Women in Construction event at Marian University on Thursday\, March 13\, 2025\, from 9:00 a.m. to Noon! \nThis event is all about empowering young minds to explore exciting careers in the ever-evolving construction industry.  And it celebrates National Women in Construction Week. \nHere’s what will make this event unforgettable: \n\nMeet a Trailblazer: Hear from Anastasia Kraft\, founder of Xena Workwear for Women\, as she shares her story of breaking barriers and building success in a traditionally male-dominated field.\nReal Stories\, Real Inspiration: A panel of amazing professionals—women and men—will reveal what it’s like to thrive in roles like construction management\, engineering\, estimating\, and design.\nAsk\, Learn\, Connect: Students will get the chance to ask questions\, engage with industry leaders\, and discover the endless possibilities in this dynamic field.\n\nWhy this event is a must-attend: \n\nExplore careers in construction beyond hard hats—think innovation\, creativity\, and leadership.\nGet inspired by stories of women shattering stereotypes and proving there’s room for everyone in this industry.\nFind out about scholarship opportunities\, exciting programs at Marian University\, and pathways to a successful future!\n\nThis event isn’t just a presentation—it’s a chance to dream big\, think boldly\, and see what’s possible.  Join us and leave feeling motivated to tackle the future. Let us know if your school would like to participate or if you need more details. We’re happy to help with any questions. Thank you for helping us inspire the next generation of innovators and leaders! \nRSVP: Kylene Schwark by March 6\, 2025\, for boxed lunch:  keschwark15@marianuniversity.edu \nIf you have any questions\, please contact Callista Gould\, Assistant Vice President for Marketing and Communications with Marian University: cgould95@marianuniversity.edu or call: 920-923-8115.
URL:https://www.marianuniversity.edu/event/women-in-construction-2025/
LOCATION:Stayer Center  – Marian University\, 45 S. National Ave.\, Fond du Lac\, WI\, 54935\, United States
CATEGORIES:Campus Event
ATTACH;FMTTYPE=image/jpeg:https://www.marianuniversity.edu/wp-content/uploads/2025/02/Women-in-Construction-Event.jpg
END:VEVENT
END:VCALENDAR